
BEGIN:VCALENDAR
VERSION:2.0
PRODID:-//VISIT ACQUI TERME - ECPv5.12.3//NONSGML v1.0//EN
CALSCALE:GREGORIAN
METHOD:PUBLISH
X-WR-CALNAME:VISIT ACQUI TERME
X-ORIGINAL-URL:https://turismo.comuneacqui.it
X-WR-CALDESC:Eventi per VISIT ACQUI TERME
BEGIN:VTIMEZONE
TZID:UTC
BEGIN:STANDARD
TZOFFSETFROM:+0000
TZOFFSETTO:+0000
TZNAME:UTC
DTSTART:20250101T000000
END:STANDARD
END:VTIMEZONE
BEGIN:VEVENT
DTSTART;TZID=UTC:20250911T173000
DTEND;TZID=UTC:20250911T193000
DTSTAMP:20260424T155127
CREATED:20250904T105423Z
LAST-MODIFIED:20250904T105456Z
UID:57937-1757611800-1757619000@turismo.comuneacqui.it
SUMMARY:XVII CONCORSO INTERNAZIONALE DI POESIA "CITTA' DI ACQUI TERME"
DESCRIPTION:POESIA | FOTOGRAFIA | TEATRO | CINEMA | MUSICA | GIORNALISMO | LABORATORI | CONVEGNIO | LETTERATURA GIANNI OLIVA – Il pendio dei noci Introduce Rosa Amato (incontro valido anche come formazione docenti) Appuntamento inserito nel XVII Concorso Internazionale di Poesia “Città di Acqui Terme”. Premi e Festival Scopri il programma completo su https://www.associazionearchicultura.it/ \n\n\n\n\n\n\n\n\nQuesto contenuto è disponibile in:
URL:https://turismo.comuneacqui.it/event/xvii-concorso-internazionale-di-poesia-citta-di-acqui-terme-9/
LOCATION:Salone San Guido\, Piazza Duomo\, Acqui Terme\, 15011
CATEGORIES:Arte e Cultura
ATTACH;FMTTYPE=image/jpeg:https://turismo.comuneacqui.it/wp-content/uploads/2025/08/Archicultura-2025.jpg
END:VEVENT
END:VCALENDAR