
BEGIN:VCALENDAR
VERSION:2.0
PRODID:-//VISIT ACQUI TERME - ECPv5.12.3//NONSGML v1.0//EN
CALSCALE:GREGORIAN
METHOD:PUBLISH
X-WR-CALNAME:VISIT ACQUI TERME
X-ORIGINAL-URL:https://turismo.comuneacqui.it
X-WR-CALDESC:Eventi per VISIT ACQUI TERME
BEGIN:VTIMEZONE
TZID:Europe/Paris
BEGIN:DAYLIGHT
TZOFFSETFROM:+0100
TZOFFSETTO:+0200
TZNAME:CEST
DTSTART:20250330T010000
END:DAYLIGHT
BEGIN:STANDARD
TZOFFSETFROM:+0200
TZOFFSETTO:+0100
TZNAME:CET
DTSTART:20251026T010000
END:STANDARD
END:VTIMEZONE
BEGIN:VEVENT
DTSTART;TZID=Europe/Paris:20250817T080000
DTEND;TZID=Europe/Paris:20250824T170000
DTSTAMP:20260425T002835
CREATED:20250331T150727Z
LAST-MODIFIED:20250812T100937Z
UID:55242-1755417600-1756054800@turismo.comuneacqui.it
SUMMARY:XIX EDIZIONE DELL'ACCADEMIA DI MANDOLINO E CHITARRA
DESCRIPTION:PROGRAMMA: \n\n17 AGOSTO dalle 15 alle 19: apertura al pubblico di una “Mostra di alta liuteria” e “porte aperte” per conoscere gli strumenti a pizzico – INGRESSO LIBERO\n21 AGOSTO ore 21:15: concerto dei docenti concertisti della XIX edizione dell’Accademia di Mandolino e Chitarra – INGRESSO LIBERO\n23 AGOSTO ore 18:30: concerto finale a grand’orchestra dei partecipanti (docenti e corsisti) alla XIX edizione dell’Accademia di Mandolino e Chitarra  – INGRESSO LIBERO\n\n\n\n\n\n\n\n\n\nQuesto contenuto è disponibile in:
URL:https://turismo.comuneacqui.it/event/xix-edizione-dellaccademia-di-mandolino-e-chitarra/
LOCATION:hotel la meridiana\, Piazza Duomo\, 4\, Acqui Terme\, AL\, 15010
ATTACH;FMTTYPE=image/jpeg:https://turismo.comuneacqui.it/wp-content/uploads/2025/03/loc-accademia-acqui-2025-con-loghi-scaled.jpg
END:VEVENT
END:VCALENDAR