
BEGIN:VCALENDAR
VERSION:2.0
PRODID:-//VISIT ACQUI TERME - ECPv5.12.3//NONSGML v1.0//EN
CALSCALE:GREGORIAN
METHOD:PUBLISH
X-WR-CALNAME:VISIT ACQUI TERME
X-ORIGINAL-URL:https://turismo.comuneacqui.it
X-WR-CALDESC:Eventi per VISIT ACQUI TERME
BEGIN:VTIMEZONE
TZID:UTC
BEGIN:STANDARD
TZOFFSETFROM:+0000
TZOFFSETTO:+0000
TZNAME:UTC
DTSTART:20200101T000000
END:STANDARD
END:VTIMEZONE
BEGIN:VEVENT
DTSTART;TZID=UTC:20200926T103000
DTEND;TZID=UTC:20200927T190000
DTSTAMP:20260421T142430
CREATED:20200924T154443Z
LAST-MODIFIED:20200924T154808Z
UID:37981-1601116200-1601233200@turismo.comuneacqui.it
SUMMARY:VISITE GUIDATE del CENTRO STORICO 26 e 27 SETTEMBRE
DESCRIPTION:Una passeggiata per scoprire le bellezze storiche e artistiche della città termale\, accompagnati da una guida turistica professionale.  \nLa visita parte dalla centrale Piazza Italia e porta a visitare tutti i monumenti principali tra cui: la famosa fonte termale “della Bollente” – simbolo della città\, il Borgo Pisterna dominato da splendidi palazzi signorili\, la Cattedrale di Santa Maria Assunta\, consacrata nel 1067 da San Guido\, Vescovo e Santo Patrono della città e visita al Trittico della Madonna di Montserrat\, capolavoro del 1480 del pittore spagnolo Bartolomeo Bermejo ; il Castello dei Paleologi – Museo Archeologico che custodisce preziosi reperti di epoca per-romana e romana (visita esterna) e la Basilica romanica dedicata alla Madonna Addolorata. \nIncontro con la guida presso l’INFO POINT in piazza Italia \nALLE ORE 10.30 E 16.00 \nLA PARTECIPAZIONE E’ GRATUITA  \nQuesto contenuto è disponibile in:
URL:https://turismo.comuneacqui.it/event/visite-guidate-del-centro-storico-26-e-27-settembre/
LOCATION:Centro città\, Piazza Italia\, Acqui Terme\, AL\, 15011
CATEGORIES:Visite Guidate
ATTACH;FMTTYPE=image/jpeg:https://turismo.comuneacqui.it/wp-content/uploads/2020/09/Locandina-visite-guidate-Acqui-Wine-Days_ultima_compressed.jpg
GEO:44,6763846;8,4670285
X-APPLE-STRUCTURED-LOCATION;VALUE=URI;X-ADDRESS=Centro città Piazza Italia Acqui Terme AL 15011;X-APPLE-RADIUS=500;X-TITLE=Piazza Italia:geo:8,4670285,44,6763846
END:VEVENT
END:VCALENDAR