
BEGIN:VCALENDAR
VERSION:2.0
PRODID:-//VISIT ACQUI TERME - ECPv5.12.3//NONSGML v1.0//EN
CALSCALE:GREGORIAN
METHOD:PUBLISH
X-WR-CALNAME:VISIT ACQUI TERME
X-ORIGINAL-URL:https://turismo.comuneacqui.it
X-WR-CALDESC:Eventi per VISIT ACQUI TERME
BEGIN:VTIMEZONE
TZID:UTC
BEGIN:STANDARD
TZOFFSETFROM:+0000
TZOFFSETTO:+0000
TZNAME:UTC
DTSTART:20250101T000000
END:STANDARD
END:VTIMEZONE
BEGIN:VEVENT
DTSTART;TZID=UTC:20251214T140000
DTEND;TZID=UTC:20251214T170000
DTSTAMP:20260421T200705
CREATED:20251209T141913Z
LAST-MODIFIED:20251209T142317Z
UID:59311-1765720800-1765731600@turismo.comuneacqui.it
SUMMARY:UN SOGNO DI NATALE
DESCRIPTION:PASSI DI SPERANZA PER TELETHON – alle ore 14.00 presso il Centro Congressi\, zona Bagni.  Il ricavato andrà a favore dei progetti TELETHON \nINGRESSO LIBERO. \nPer tutti gli appuntamenti del Natale visitare il sito dedicato https://sites.google.com/view/nataleacquiterme \n\n\n\n\n\n\n\n\nQuesto contenuto è disponibile in:
URL:https://turismo.comuneacqui.it/event/un-sogno-di-natale/
LOCATION:Centro Congressi\, Viale Antiche Terme\, Acqui Terme\, Alessandria\, 15011\, Italy
CATEGORIES:CONCERTO,Natale
ATTACH;FMTTYPE=image/jpeg:https://turismo.comuneacqui.it/wp-content/uploads/2025/12/14-DICEMBRE-UN-SOGNO-DI-NATALE.jpeg
GEO:44,6598225;8,4694141
X-APPLE-STRUCTURED-LOCATION;VALUE=URI;X-ADDRESS=Centro Congressi Viale Antiche Terme Acqui Terme Alessandria 15011 Italy;X-APPLE-RADIUS=500;X-TITLE=Viale Antiche Terme:geo:8,4694141,44,6598225
END:VEVENT
END:VCALENDAR