
BEGIN:VCALENDAR
VERSION:2.0
PRODID:-//VISIT ACQUI TERME - ECPv5.12.3//NONSGML v1.0//EN
CALSCALE:GREGORIAN
METHOD:PUBLISH
X-WR-CALNAME:VISIT ACQUI TERME
X-ORIGINAL-URL:https://turismo.comuneacqui.it
X-WR-CALDESC:Eventi per VISIT ACQUI TERME
BEGIN:VTIMEZONE
TZID:UTC
BEGIN:STANDARD
TZOFFSETFROM:+0000
TZOFFSETTO:+0000
TZNAME:UTC
DTSTART:20260101T000000
END:STANDARD
END:VTIMEZONE
BEGIN:VEVENT
DTSTART;TZID=UTC:20260106T160000
DTEND;TZID=UTC:20260106T180000
DTSTAMP:20260421T181013
CREATED:20251204T152238Z
LAST-MODIFIED:20251223T100137Z
UID:59270-1767715200-1767722400@turismo.comuneacqui.it
SUMMARY:TRADIZIONALE CONCERTO DELL'EPIFANIA
DESCRIPTION:CON LA CORALE DI SANTA CECILIA. Esecuzione di brani corali della tradizione classica e natalizia accanto ad opere del grande repertorio della musica sacra\, interpretati dalla Corale Santa Cecilia di Acqui Terme e da una voce di Soprano solista con accompagnamento di pianoforte. Alle ore 16.00 presso la Cattedrale di S.M. Assunta con INGRESSO LIBERO. \nPer tutti gli appuntamenti durante le Festività visitare il sito dedicato https://sites.google.com/view/nataleacquiterme \n\n\n\n\n\n\n\n\nQuesto contenuto è disponibile in:
URL:https://turismo.comuneacqui.it/event/tradizionale-concerto-dellepifania-4/
LOCATION:Cattedrale N.S. Assunta
CATEGORIES:CONCERTO,Natale
ATTACH;FMTTYPE=image/jpeg:https://turismo.comuneacqui.it/wp-content/uploads/2025/12/2026.01.06_Corale-Santa-Cecilia-scaled.jpg
END:VEVENT
END:VCALENDAR