
BEGIN:VCALENDAR
VERSION:2.0
PRODID:-//VISIT ACQUI TERME - ECPv5.12.3//NONSGML v1.0//EN
CALSCALE:GREGORIAN
METHOD:PUBLISH
X-WR-CALNAME:VISIT ACQUI TERME
X-ORIGINAL-URL:https://turismo.comuneacqui.it
X-WR-CALDESC:Eventi per VISIT ACQUI TERME
BEGIN:VTIMEZONE
TZID:UTC
BEGIN:STANDARD
TZOFFSETFROM:+0000
TZOFFSETTO:+0000
TZNAME:UTC
DTSTART:20190101T000000
END:STANDARD
END:VTIMEZONE
BEGIN:VEVENT
DTSTART;TZID=UTC:20190503T200000
DTEND;TZID=UTC:20190503T230000
DTSTAMP:20260420T150508
CREATED:20190409T101109Z
LAST-MODIFIED:20190409T101109Z
UID:16047-1556913600-1556924400@turismo.comuneacqui.it
SUMMARY:TI REGALO UNA RICETTA - 2^ Edizione
DESCRIPTION:7 CENE PER CONOSCERSI \n Italia\, Piemonte\, Acqui Terme \nore 20: Cena \n  \nQuesto contenuto è disponibile in:
URL:https://turismo.comuneacqui.it/event/ti-regalo-una-ricetta-2-edizione-2/
LOCATION:RICRE\, Via Cassino 27A\, Acqui Terme\, 15011\, Italy
CATEGORIES:Enogastronomia
ATTACH;FMTTYPE=:
END:VEVENT
END:VCALENDAR