
BEGIN:VCALENDAR
VERSION:2.0
PRODID:-//VISIT ACQUI TERME - ECPv5.12.3//NONSGML v1.0//EN
CALSCALE:GREGORIAN
METHOD:PUBLISH
X-WR-CALNAME:VISIT ACQUI TERME
X-ORIGINAL-URL:https://turismo.comuneacqui.it
X-WR-CALDESC:Eventi per VISIT ACQUI TERME
BEGIN:VTIMEZONE
TZID:UTC
BEGIN:STANDARD
TZOFFSETFROM:+0000
TZOFFSETTO:+0000
TZNAME:UTC
DTSTART:20230101T000000
END:STANDARD
END:VTIMEZONE
BEGIN:VEVENT
DTSTART;TZID=UTC:20231111T100000
DTEND;TZID=UTC:20231112T200000
DTSTAMP:20260424T104218
CREATED:20231016T074302Z
LAST-MODIFIED:20231016T074304Z
UID:47943-1699696800-1699819200@turismo.comuneacqui.it
SUMMARY:THE BEAT DREAM
DESCRIPTION:THE BEAT DREAM e’ una manifestazione internazionale di danza urbana: Hip Hop allo stato puro con la presenza di insegnanti e coreografi tra i migliori al mondo che metteranno tutta la loro esperienza in due giorni di workshop. \n\n \n\n\n\n\nQuesto contenuto è disponibile in:
URL:https://turismo.comuneacqui.it/event/the-beat-dream-3/
LOCATION:Centro Congressi\, Viale Antiche Terme\, Acqui Terme\, Alessandria\, 15011\, Italy
CATEGORIES:Spettacolo
ATTACH;FMTTYPE=image/png:https://turismo.comuneacqui.it/wp-content/uploads/2023/10/Cattura.png
GEO:44,6598225;8,4694141
X-APPLE-STRUCTURED-LOCATION;VALUE=URI;X-ADDRESS=Centro Congressi Viale Antiche Terme Acqui Terme Alessandria 15011 Italy;X-APPLE-RADIUS=500;X-TITLE=Viale Antiche Terme:geo:8,4694141,44,6598225
END:VEVENT
END:VCALENDAR