
BEGIN:VCALENDAR
VERSION:2.0
PRODID:-//VISIT ACQUI TERME - ECPv5.12.3//NONSGML v1.0//EN
CALSCALE:GREGORIAN
METHOD:PUBLISH
X-WR-CALNAME:VISIT ACQUI TERME
X-ORIGINAL-URL:https://turismo.comuneacqui.it/?lang=en
X-WR-CALDESC:Events for VISIT ACQUI TERME
BEGIN:VTIMEZONE
TZID:UTC
BEGIN:STANDARD
TZOFFSETFROM:+0000
TZOFFSETTO:+0000
TZNAME:UTC
DTSTART:20190101T000000
END:STANDARD
END:VTIMEZONE
BEGIN:VEVENT
DTSTART;TZID=UTC:20191005T080000
DTEND;TZID=UTC:20191005T140000
DTSTAMP:20260424T173653
CREATED:20190923T061136Z
LAST-MODIFIED:20190923T061136Z
UID:31872-1570262400-1570284000@turismo.comuneacqui.it
SUMMARY:“TERMALISMO 3.O:  PROPOSTE E STRATEGIE  PER LA CURA DELLA SALUTE E SVILUPPO TERMALE”
DESCRIPTION:L’evento\, di rilievo Internazionale\, è stato promosso dal Proprietario di Villa Ottolenghi\, Vittorio Invernizzi\, e dall’Associazione non profit F.I.R.S.Thermae (Formazione Interdisciplinare\, Ricerche e Scienze Termali) inserita in Anagrafe Nazionale di Ricerche del MIUR\, presieduta dalla prof.ssa Maria Costantino. \nPrincipale finalità dell’evento è la messa in rete\, da qui il titolo Termalismo 3.0\, di risorse terapeutiche\, ambientali\, turistiche e culturali per favorire la salute dei cittadini e l’economia dei territori termali\, arrivando nel più breve tempo possibile al Termalismo 4.0 ossia alla digitalizzazione e all’Internet of Thinks (IoT) termale. Per fare questo occorre che politici\, amministratori\, accademici\, imprenditori e società civile\, facciano sistema per una diffusione e valorizzazione  internazionale del  patrimonio termale sia da un punto di vista terapeutico-salutistico e sia da un punto di vista turistico-culturale. \nIn sede congressuale pertanto saranno affrontati vari temi come l’Importanza della Ricerca in ambito Termale come elemento di conoscenza e innovazione. Sarà evidenziato il valore del Luogo Termale\, come parte integrante del processo terapeutico e dello sviluppo turistico; e il valore della Comunicazione della cura termale a pubblico e personale sanitario usando i moderni mezzi terapeutici per un’efficace promozione del settore termale. In sede congressuale si cercherà anche di esaminare l’Economia Termale in ambito europeo per un’analisi dello stato attuale del settore e futuri sviluppi\, tematica questa sviluppata del Prof. H. Kunhardt dell’Università di Deggendorf in partnership con le proff. Maria Costantino e Fiorella Filippelli. Svolgendosi l’evento nella Regione Piemonte è previsto anche un breve escursus storico sulle Terme del Piemonte\, la cui tradizione termale affonda le sue radici ai tempi dei romani. \nCon il Patrocinio di: Regione Piemonte\, Comune di Acqui Terme\, Comune di Telese Terme\, Federterme\, FoRST\, Ordine dei Medici-Chirurghi ed Odontoiatri Provincia di Alessandria\, Dipartimento di Medicina\, Chirurgia e Odontoiatria “Scuola Medica Salernitana” dell’Università degli Studi di Salerno\, Associazione Italiana di Fisioterapisti. \nIl Meeting è stato accreditato ECM presso il Ministero della Salute con n.4 crediti formativi per i Signori Medici (tutte le discipline)\, per i laureati nelle professioni sanitarie in Fisioterapia\, Ostetricia e Scienze Infermieristiche. \nL’iscrizione congressuale è gratuita; per iscriversi basta compilare il modulo presente su sito web: www.firsthermae.org oppure telefonare al cell. 3772320882 o inviare una email a: mariacostantino@firsthermae.org / segreteria@firsthermae.org \n \n  \n  \nQuesto contenuto è disponibile in:
URL:https://turismo.comuneacqui.it/event/termalismo-3-o-proposte-e-strategie-per-la-cura-della-salute-e-sviluppo-termale/?lang=en
LOCATION:Villa Ottolenghi\, Str. Monterosso\, 42\, Acqui Terme\, Alessandria\, 15011
CATEGORIES:Conferenze
ATTACH;FMTTYPE=image/png:https://turismo.comuneacqui.it/wp-content/uploads/2019/09/Cattura-2.png
END:VEVENT
END:VCALENDAR