
BEGIN:VCALENDAR
VERSION:2.0
PRODID:-//VISIT ACQUI TERME - ECPv5.12.3//NONSGML v1.0//EN
CALSCALE:GREGORIAN
METHOD:PUBLISH
X-WR-CALNAME:VISIT ACQUI TERME
X-ORIGINAL-URL:https://turismo.comuneacqui.it
X-WR-CALDESC:Eventi per VISIT ACQUI TERME
BEGIN:VTIMEZONE
TZID:UTC
BEGIN:STANDARD
TZOFFSETFROM:+0000
TZOFFSETTO:+0000
TZNAME:UTC
DTSTART:20230101T000000
END:STANDARD
END:VTIMEZONE
BEGIN:VEVENT
DTSTART;TZID=UTC:20231202T170000
DTEND;TZID=UTC:20231202T190000
DTSTAMP:20260422T073624
CREATED:20231128T130602Z
LAST-MODIFIED:20231130T140425Z
UID:48400-1701536400-1701543600@turismo.comuneacqui.it
SUMMARY:STORY MOVIE   “Balon 1978-2021 - Un certo sguardo da Bertola e Berruti a Campagno e Vacchetto”
DESCRIPTION:STORY MOVIE BALON 1978-2021 \nUN CERTO SGUARDO DA BERTOLA E BERRUTI A CAMPAGNO E VACCHETTO \nRipresa e Regia di Nino Piana \nMontaggio e Grafica di Alberto Cavanna \nVoce narrante Giovanni Smorgon \n  \n1° TEMPO \n1978 BERTOLA – BERRUTI \n27/8 ALBA MERMET CAMPIONATO \n17/9 MONASTERO BORMIDA TROFEO LAIOLO 1987 BERRUTI – AICARDI FINALE SCUDETTO \n23/10 SANTO STEFANO BELO PARTITA RITORNO \n31/10 CENGIO SPAREGGIO 2000 BERTOLA – BERRUTI SFIDE PAESI PANTALERA VESIME\, SESSAME\, ROCCHETTA PALAFEA\, VISONE\, ALBA \n  \n2° TEMPO \n1995 SCIORELLA – DOTTA \n22/10 CUNEO SPAREGGIO SCUDETTO 2003 CORINO – BELLANTI FINALE SCUDETTO \n18/10 ALBA MERMET \n26/10 SANTO STEFANO BELBO 2012 CAMPAGNO – VACCHETTO \n27/5 CANALE CAMPIONATO SERIE A 2021 VACCHETTO – CAMPAGNO FINALE SCUDETTO \n16/10 CORTEMILIA PARTITA ANDATA \n6/11 SANTO STEFANO BELBO SPAREGGIO \n  \nIN COLLABORAZIONE CON L’ANCORA \n  \n\n\n\n\n\n\n\n\nQuesto contenuto è disponibile in:
URL:https://turismo.comuneacqui.it/event/story-movie-balon-1978-2021-un-certo-sguardo-da-bertola-e-berruti-a-campagno-e-vacchetto/
LOCATION:Sala convegni ex Kaimano\, Via M. Ferraris\,5\, Acqui Terme\, Alessandria\, 15011\, Italy
CATEGORIES:Cultura & Cinema,Spettacolo,Sport
ATTACH;FMTTYPE=image/png:https://turismo.comuneacqui.it/wp-content/uploads/2023/11/Locandina-BALON_v2.png
ORGANIZER;CN="Ufficio%20Turismo":MAILTO:turismo@comuneacqui.com
GEO:44,6775312;8,4668088
X-APPLE-STRUCTURED-LOCATION;VALUE=URI;X-ADDRESS=Sala convegni ex Kaimano Via M. Ferraris5 Acqui Terme Alessandria 15011 Italy;X-APPLE-RADIUS=500;X-TITLE=Via M. Ferraris\,5:geo:8,4668088,44,6775312
END:VEVENT
END:VCALENDAR