
BEGIN:VCALENDAR
VERSION:2.0
PRODID:-//VISIT ACQUI TERME - ECPv5.12.3//NONSGML v1.0//EN
CALSCALE:GREGORIAN
METHOD:PUBLISH
X-WR-CALNAME:VISIT ACQUI TERME
X-ORIGINAL-URL:https://turismo.comuneacqui.it/?lang=en
X-WR-CALDESC:Events for VISIT ACQUI TERME
BEGIN:VTIMEZONE
TZID:UTC
BEGIN:STANDARD
TZOFFSETFROM:+0000
TZOFFSETTO:+0000
TZNAME:UTC
DTSTART:20250101T000000
END:STANDARD
END:VTIMEZONE
BEGIN:VEVENT
DTSTART;TZID=UTC:20250509T180000
DTEND;TZID=UTC:20250509T200000
DTSTAMP:20260421T125701
CREATED:20250503T133627Z
LAST-MODIFIED:20250503T133833Z
UID:55679-1746813600-1746820800@turismo.comuneacqui.it
SUMMARY:Spazio Classica - Presentazione del libro di Paolo Repetto "L'anima dei colori"
DESCRIPTION:Alle ore 18.00 presso la Sala Santa Maria \n\n\n\n\n\n\n\n\nQuesto contenuto è disponibile in:
URL:https://turismo.comuneacqui.it/event/spazio-classica-presentazione-del-libro-di-paolo-repetto-lanima-dei-colori/?lang=en
LOCATION:Sala Santa Maria\, Via Domenico Barone\, 3\, Acqui Terme\, Alessandria\, 15011\, Italy
CATEGORIES:CONCERTO,presentazione libri
ATTACH;FMTTYPE=image/jpeg:https://turismo.comuneacqui.it/wp-content/uploads/2025/05/3-Locandina-9-maggio-Repetto-scaled.jpg
GEO:44,6742769;8,471895
X-APPLE-STRUCTURED-LOCATION;VALUE=URI;X-ADDRESS=Sala Santa Maria Via Domenico Barone 3 Acqui Terme Alessandria 15011 Italy;X-APPLE-RADIUS=500;X-TITLE=Via Domenico Barone\, 3:geo:8,471895,44,6742769
END:VEVENT
END:VCALENDAR