
BEGIN:VCALENDAR
VERSION:2.0
PRODID:-//VISIT ACQUI TERME - ECPv5.12.3//NONSGML v1.0//EN
CALSCALE:GREGORIAN
METHOD:PUBLISH
X-WR-CALNAME:VISIT ACQUI TERME
X-ORIGINAL-URL:https://turismo.comuneacqui.it
X-WR-CALDESC:Eventi per VISIT ACQUI TERME
BEGIN:VTIMEZONE
TZID:UTC
BEGIN:STANDARD
TZOFFSETFROM:+0000
TZOFFSETTO:+0000
TZNAME:UTC
DTSTART:20220101T000000
END:STANDARD
END:VTIMEZONE
BEGIN:VEVENT
DTSTART;TZID=UTC:20220806T210000
DTEND;TZID=UTC:20220806T230000
DTSTAMP:20260419T203849
CREATED:20220624T100458Z
LAST-MODIFIED:20220717T093214Z
UID:43242-1659819600-1659826800@turismo.comuneacqui.it
SUMMARY:AJM JAZZ FESTIVAL
DESCRIPTION:Diego Borotti  4TET \nAlle Ore 21.00\nConcerto Jazz \nPRENOTAZIONE OBBLIGATORIA\nal numero 329 536 7708\nINGRESSO € 10\,00 \nIL CONCERTO SI’ SVOLGERA’ AL TEATRO ROMANO IN VIA SCATILAZZI ( in caso di maltempo presso la sala SANTA MARIA) \n  \nA cura di Antithesis Acqui Terme e AJM Jazz \n  \nQuesto contenuto è disponibile in:
URL:https://turismo.comuneacqui.it/event/spazio-classica-2022-concerto-jazz/
LOCATION:Teatro Romano\, Via Scatilazzi\, Acqui Terme\, Alessandria\, 15011
CATEGORIES:Musica & Nightlife
ATTACH;FMTTYPE=image/jpeg:https://turismo.comuneacqui.it/wp-content/uploads/2022/06/Locandina-6-agosto.jpg
GEO:44,6753199;8,4711976
X-APPLE-STRUCTURED-LOCATION;VALUE=URI;X-ADDRESS=Teatro Romano Via Scatilazzi Acqui Terme Alessandria 15011;X-APPLE-RADIUS=500;X-TITLE=Via Scatilazzi:geo:8,4711976,44,6753199
END:VEVENT
END:VCALENDAR