
BEGIN:VCALENDAR
VERSION:2.0
PRODID:-//VISIT ACQUI TERME - ECPv5.12.3//NONSGML v1.0//EN
CALSCALE:GREGORIAN
METHOD:PUBLISH
X-WR-CALNAME:VISIT ACQUI TERME
X-ORIGINAL-URL:https://turismo.comuneacqui.it
X-WR-CALDESC:Eventi per VISIT ACQUI TERME
BEGIN:VTIMEZONE
TZID:UTC
BEGIN:STANDARD
TZOFFSETFROM:+0000
TZOFFSETTO:+0000
TZNAME:UTC
DTSTART:20220101T000000
END:STANDARD
END:VTIMEZONE
BEGIN:VEVENT
DTSTART;TZID=UTC:20220610T213000
DTEND;TZID=UTC:20220610T233000
DTSTAMP:20260421T110933
CREATED:20220506T115926Z
LAST-MODIFIED:20220609T063635Z
UID:42761-1654896600-1654903800@turismo.comuneacqui.it
SUMMARY:SCOTT HAMILTON in concerto
DESCRIPTION:Magico concerto jazz con il noto sassofonista statunitense SCOTT HAMILTON \nScott Hamilton suonerà in formazione con: \nAlberto Bonacasa (pianoforte) \nGiorgio Allara (contrabbasso) \nGiorgio Diaferia (batteria) \nIngresso libero. \nIn caso di pioggia il concerto si terrà presso la Sala Conferenze della Ex Kaimano – Piazza M. Ferraris  \nQuesto contenuto è disponibile in:
URL:https://turismo.comuneacqui.it/event/scott-hamilton-in-concerto/
LOCATION:Teatro Romano\, Via Scatilazzi\, Acqui Terme\, Alessandria\, 15011
CATEGORIES:Musica & Nightlife
ATTACH;FMTTYPE=image/jpeg:https://turismo.comuneacqui.it/wp-content/uploads/2022/05/image-05-05-22-05-59.jpeg
GEO:44,6753199;8,4711976
X-APPLE-STRUCTURED-LOCATION;VALUE=URI;X-ADDRESS=Teatro Romano Via Scatilazzi Acqui Terme Alessandria 15011;X-APPLE-RADIUS=500;X-TITLE=Via Scatilazzi:geo:8,4711976,44,6753199
END:VEVENT
END:VCALENDAR