
BEGIN:VCALENDAR
VERSION:2.0
PRODID:-//VISIT ACQUI TERME - ECPv5.12.3//NONSGML v1.0//EN
CALSCALE:GREGORIAN
METHOD:PUBLISH
X-WR-CALNAME:VISIT ACQUI TERME
X-ORIGINAL-URL:https://turismo.comuneacqui.it
X-WR-CALDESC:Eventi per VISIT ACQUI TERME
BEGIN:VTIMEZONE
TZID:UTC
BEGIN:STANDARD
TZOFFSETFROM:+0000
TZOFFSETTO:+0000
TZNAME:UTC
DTSTART:20180101T000000
END:STANDARD
END:VTIMEZONE
BEGIN:VEVENT
DTSTART;TZID=UTC:20180928T210000
DTEND;TZID=UTC:20180928T230000
DTSTAMP:20260421T125703
CREATED:20180829T102600Z
LAST-MODIFIED:20180829T102600Z
UID:13723-1538168400-1538175600@turismo.comuneacqui.it
SUMMARY:Rassegna concerti Sala Santa Maria "Colophonia Room". ANNULLATO
DESCRIPTION:DEDICATO ALLA VISUAL ART. L’EVENTO E’ STATO ANNULLATO \ningresso ad offerta libera fino ad esaurimento posti \nPer visualizzare i prossimi eventi clicca qui sotto: \n \nQuesto contenuto è disponibile in:
URL:https://turismo.comuneacqui.it/event/rassegna-concerti-sala-santa-maria-colophonia-room-7/
LOCATION:Sala Santa Maria\, Via Domenico Barone\, 3\, Acqui Terme\, Alessandria\, 15011\, Italy
CATEGORIES:Musica & Nightlife
ATTACH;FMTTYPE=:
GEO:44,6742769;8,471895
X-APPLE-STRUCTURED-LOCATION;VALUE=URI;X-ADDRESS=Sala Santa Maria Via Domenico Barone 3 Acqui Terme Alessandria 15011 Italy;X-APPLE-RADIUS=500;X-TITLE=Via Domenico Barone\, 3:geo:8,471895,44,6742769
END:VEVENT
END:VCALENDAR