
BEGIN:VCALENDAR
VERSION:2.0
PRODID:-//VISIT ACQUI TERME - ECPv5.12.3//NONSGML v1.0//EN
CALSCALE:GREGORIAN
METHOD:PUBLISH
X-WR-CALNAME:VISIT ACQUI TERME
X-ORIGINAL-URL:https://turismo.comuneacqui.it
X-WR-CALDESC:Eventi per VISIT ACQUI TERME
BEGIN:VTIMEZONE
TZID:UTC
BEGIN:STANDARD
TZOFFSETFROM:+0000
TZOFFSETTO:+0000
TZNAME:UTC
DTSTART:20190101T000000
END:STANDARD
END:VTIMEZONE
BEGIN:VEVENT
DTSTART;TZID=UTC:20191103T170000
DTEND;TZID=UTC:20191103T190000
DTSTAMP:20260421T202339
CREATED:20190816T122248Z
LAST-MODIFIED:20191029T095255Z
UID:30478-1572800400-1572807600@turismo.comuneacqui.it
SUMMARY:Rassegna Concerti alla Sala Santa Maria
DESCRIPTION:Spazio Classica “Babies corner?” \nMarco Sollini  \nSalvatore Barbatano \npianoforte a 4 mani  \nPERSPEKTIVE PHILIDOR fantasmagorie e visuals  \nIngresso a offerta libera fino a esaurimento posti \nQuesto contenuto è disponibile in:
URL:https://turismo.comuneacqui.it/event/rassegna-concerti-alla-sala-santa-maria-6/
LOCATION:Sala Santa Maria\, Via Domenico Barone\, 3\, Acqui Terme\, Alessandria\, 15011\, Italy
CATEGORIES:Musica & Nightlife
ATTACH;FMTTYPE=image/jpeg:https://turismo.comuneacqui.it/wp-content/uploads/2019/08/0001-mod4.jpg
GEO:44,6742769;8,471895
X-APPLE-STRUCTURED-LOCATION;VALUE=URI;X-ADDRESS=Sala Santa Maria Via Domenico Barone 3 Acqui Terme Alessandria 15011 Italy;X-APPLE-RADIUS=500;X-TITLE=Via Domenico Barone\, 3:geo:8,471895,44,6742769
END:VEVENT
END:VCALENDAR