
BEGIN:VCALENDAR
VERSION:2.0
PRODID:-//VISIT ACQUI TERME - ECPv5.12.3//NONSGML v1.0//EN
CALSCALE:GREGORIAN
METHOD:PUBLISH
X-WR-CALNAME:VISIT ACQUI TERME
X-ORIGINAL-URL:https://turismo.comuneacqui.it/?lang=en
X-WR-CALDESC:Events for VISIT ACQUI TERME
BEGIN:VTIMEZONE
TZID:UTC
BEGIN:STANDARD
TZOFFSETFROM:+0000
TZOFFSETTO:+0000
TZNAME:UTC
DTSTART:20190101T000000
END:STANDARD
END:VTIMEZONE
BEGIN:VEVENT
DTSTART;TZID=UTC:20190623T090000
DTEND;TZID=UTC:20190623T130000
DTSTAMP:20260421T105828
CREATED:20190527T142308Z
LAST-MODIFIED:20190620T100957Z
UID:16754-1561280400-1561294800@turismo.comuneacqui.it
SUMMARY:RADUNO DELLA BOLLENTE
DESCRIPTION:Raduno di auto e moto d’epoca organizzato dall’Associazione Rust and Dust – Monferrato Classic Car \nSfilata dei mezzi storici in centro città e sosta in Piazza Bollente \n  \nPer adesioni ed info: rust-dust@libero.it oppure www.rustanddust.altervista.org \nQuesto contenuto è disponibile in:
URL:https://turismo.comuneacqui.it/event/raduno-della-bollente-2/?lang=en
LOCATION:Centro città\, Acqui Terme
CATEGORIES:Auto moto raduno
ATTACH;FMTTYPE=image/jpeg:https://turismo.comuneacqui.it/wp-content/uploads/2019/05/car-show-581067__340.jpg
GEO:44,675342;8,469583
END:VEVENT
END:VCALENDAR