
BEGIN:VCALENDAR
VERSION:2.0
PRODID:-//VISIT ACQUI TERME - ECPv5.12.3//NONSGML v1.0//EN
CALSCALE:GREGORIAN
METHOD:PUBLISH
X-WR-CALNAME:VISIT ACQUI TERME
X-ORIGINAL-URL:https://turismo.comuneacqui.it
X-WR-CALDESC:Eventi per VISIT ACQUI TERME
BEGIN:VTIMEZONE
TZID:UTC
BEGIN:STANDARD
TZOFFSETFROM:+0000
TZOFFSETTO:+0000
TZNAME:UTC
DTSTART:20190101T000000
END:STANDARD
END:VTIMEZONE
BEGIN:VEVENT
DTSTART;TZID=UTC:20190322T180000
DTEND;TZID=UTC:20190322T200000
DTSTAMP:20260424T104728
CREATED:20190225T095204Z
LAST-MODIFIED:20190225T095204Z
UID:15376-1553277600-1553284800@turismo.comuneacqui.it
SUMMARY:Presentazione del volume "MATRIMONI E PATRIMONI" di Debora Rosciani
DESCRIPTION:Organizzazione a cura del Lions Club Acqui e Colline Acquesi \nQuesto contenuto è disponibile in:
URL:https://turismo.comuneacqui.it/event/presentazione-del-volume-matrimoni-e-patrimoni-di-debora-rosciani/
LOCATION:Sala Convegni – Palazzo Robellini\, Piazza Levi 5\, Acqui Terme\, Alessandria\, 15011\, Italy
CATEGORIES:Mostre & Presentazioni Libri
ATTACH;FMTTYPE=:
GEO:44.6765;8.46987
X-APPLE-STRUCTURED-LOCATION;VALUE=URI;X-ADDRESS=Sala Convegni – Palazzo Robellini Piazza Levi 5 Acqui Terme Alessandria 15011 Italy;X-APPLE-RADIUS=500;X-TITLE=Piazza Levi 5:geo:8.46987,44.6765
END:VEVENT
END:VCALENDAR