
BEGIN:VCALENDAR
VERSION:2.0
PRODID:-//VISIT ACQUI TERME - ECPv5.12.3//NONSGML v1.0//EN
CALSCALE:GREGORIAN
METHOD:PUBLISH
X-WR-CALNAME:VISIT ACQUI TERME
X-ORIGINAL-URL:https://turismo.comuneacqui.it
X-WR-CALDESC:Eventi per VISIT ACQUI TERME
BEGIN:VTIMEZONE
TZID:UTC
BEGIN:STANDARD
TZOFFSETFROM:+0000
TZOFFSETTO:+0000
TZNAME:UTC
DTSTART:20220101T000000
END:STANDARD
END:VTIMEZONE
BEGIN:VEVENT
DTSTART;TZID=UTC:20221106T163000
DTEND;TZID=UTC:20221106T180000
DTSTAMP:20260421T130549
CREATED:20221020T095340Z
LAST-MODIFIED:20221020T095340Z
UID:44193-1667752200-1667757600@turismo.comuneacqui.it
SUMMARY:Presentazione del Libro "Salomone Iona e Jona Clava Imprenditori ebrei nel Monferrato dei Gonzaga"
DESCRIPTION:Presentazione del Libro\nSalomone Iona e Jona Clava\nImprenditori ebrei nel Monferrato dei Gonzaga\n \ndi Lucilla Rapetti\nedito da Salomone Belforte & C\npresentazione a cura del Prof. Marco Francesco Dolermo \nINGRESSO LIBERO \nQuesto contenuto è disponibile in:
URL:https://turismo.comuneacqui.it/event/presentazione-del-libro-salomone-iona-e-jona-clava-imprenditori-ebrei-nel-monferrato-dei-gonzaga/
LOCATION:Sala Convegni – Palazzo Robellini\, Piazza Levi 5\, Acqui Terme\, Alessandria\, 15011\, Italy
CATEGORIES:presentazione libri
ATTACH;FMTTYPE=image/jpeg:https://turismo.comuneacqui.it/wp-content/uploads/2022/10/RAPETTI-LUCILLA-Salomone-Iona-e-Jona-Clava.jpg
GEO:44.6765;8.46987
X-APPLE-STRUCTURED-LOCATION;VALUE=URI;X-ADDRESS=Sala Convegni – Palazzo Robellini Piazza Levi 5 Acqui Terme Alessandria 15011 Italy;X-APPLE-RADIUS=500;X-TITLE=Piazza Levi 5:geo:8.46987,44.6765
END:VEVENT
END:VCALENDAR