
BEGIN:VCALENDAR
VERSION:2.0
PRODID:-//VISIT ACQUI TERME - ECPv5.12.3//NONSGML v1.0//EN
CALSCALE:GREGORIAN
METHOD:PUBLISH
X-WR-CALNAME:VISIT ACQUI TERME
X-ORIGINAL-URL:https://turismo.comuneacqui.it/?lang=en
X-WR-CALDESC:Events for VISIT ACQUI TERME
BEGIN:VTIMEZONE
TZID:UTC
BEGIN:STANDARD
TZOFFSETFROM:+0000
TZOFFSETTO:+0000
TZNAME:UTC
DTSTART:20230101T000000
END:STANDARD
END:VTIMEZONE
BEGIN:VEVENT
DTSTART;TZID=UTC:20231221T210000
DTEND;TZID=UTC:20231221T230000
DTSTAMP:20260424T143854
CREATED:20231213T084227Z
LAST-MODIFIED:20231213T084259Z
UID:48632-1703192400-1703199600@turismo.comuneacqui.it
SUMMARY:PRESENTAZIONE DEL LIBRO "LA RICETTA DELLA FELICITA'
DESCRIPTION:A seguito delle cooking class tenute nella cucina didattica di Visgel\, dove diversi chef hanno prestato la loro professionalità accompagnando i ragazzi dell’ANFFAS di Acqui Terme in un percorso di formazione\, è stata realizzata un pubblicazione che testimonia questa piccola ma importante esperienza. Alle ore 21.00 presso la Biblioteca Civica \n\n\n\n\n\n\n\n\nQuesto contenuto è disponibile in:
URL:https://turismo.comuneacqui.it/event/presentazione-del-libro-la-ricetta-della-felicita/?lang=en
LOCATION:Biblioteca\, Via Maggiorino Ferraris\, 15\, Acqui Terme\, Italy
CATEGORIES:presentazione libri
ATTACH;FMTTYPE=image/jpeg:https://turismo.comuneacqui.it/wp-content/uploads/2023/12/2023-12-15-Libro-ANFFAS-BIBLIOTECA-PRESENTAZIONE-DEL-LIBRO.jpeg
GEO:44,6782276;8,4660163
X-APPLE-STRUCTURED-LOCATION;VALUE=URI;X-ADDRESS=Biblioteca Via Maggiorino Ferraris 15 Acqui Terme Italy;X-APPLE-RADIUS=500;X-TITLE=Via Maggiorino Ferraris\, 15:geo:8,4660163,44,6782276
END:VEVENT
END:VCALENDAR