
BEGIN:VCALENDAR
VERSION:2.0
PRODID:-//VISIT ACQUI TERME - ECPv5.12.3//NONSGML v1.0//EN
CALSCALE:GREGORIAN
METHOD:PUBLISH
X-WR-CALNAME:VISIT ACQUI TERME
X-ORIGINAL-URL:https://turismo.comuneacqui.it
X-WR-CALDESC:Eventi per VISIT ACQUI TERME
BEGIN:VTIMEZONE
TZID:UTC
BEGIN:STANDARD
TZOFFSETFROM:+0000
TZOFFSETTO:+0000
TZNAME:UTC
DTSTART:20250101T000000
END:STANDARD
END:VTIMEZONE
BEGIN:VEVENT
DTSTART;TZID=UTC:20250517T170000
DTEND;TZID=UTC:20250517T190000
DTSTAMP:20260419T180231
CREATED:20250503T091227Z
LAST-MODIFIED:20250503T091300Z
UID:55648-1747501200-1747508400@turismo.comuneacqui.it
SUMMARY:Presentazione del libro di Gianni Cutica "Ricaldoneide - Racconti confidenziali"
DESCRIPTION:Incontro con Gianni M. Cuttica\, autore di una raccolta di ricordi e racconti confidenziali ambientati a Ricaldone   \n\n\n\n\n\n\n\n\nQuesto contenuto è disponibile in:
URL:https://turismo.comuneacqui.it/event/presentazione-del-libro-di-gianni-cutica-ricaldoneide-racconti-confidenziali/
LOCATION:Palazzo Robellini\, Piazza Levi\, Acqui Terme\, 15011\, Italy
CATEGORIES:Conferenze
ATTACH;FMTTYPE=image/jpeg:https://turismo.comuneacqui.it/wp-content/uploads/2025/05/Locandina-presentazione-libro-Cuttica.jpg
GEO:44,676318;8,4699349
X-APPLE-STRUCTURED-LOCATION;VALUE=URI;X-ADDRESS=Palazzo Robellini Piazza Levi Acqui Terme 15011 Italy;X-APPLE-RADIUS=500;X-TITLE=Piazza Levi:geo:8,4699349,44,676318
END:VEVENT
END:VCALENDAR