
BEGIN:VCALENDAR
VERSION:2.0
PRODID:-//VISIT ACQUI TERME - ECPv5.12.3//NONSGML v1.0//EN
CALSCALE:GREGORIAN
METHOD:PUBLISH
X-WR-CALNAME:VISIT ACQUI TERME
X-ORIGINAL-URL:https://turismo.comuneacqui.it
X-WR-CALDESC:Eventi per VISIT ACQUI TERME
BEGIN:VTIMEZONE
TZID:UTC
BEGIN:STANDARD
TZOFFSETFROM:+0000
TZOFFSETTO:+0000
TZNAME:UTC
DTSTART:20180101T000000
END:STANDARD
END:VTIMEZONE
BEGIN:VEVENT
DTSTART;TZID=UTC:20181124T180000
DTEND;TZID=UTC:20181124T193000
DTSTAMP:20260422T034907
CREATED:20181026T074026Z
LAST-MODIFIED:20181026T074026Z
UID:14484-1543082400-1543087800@turismo.comuneacqui.it
SUMMARY:Presentazione del libro di Dino Benvenuti  “SHAMBHO’!”
DESCRIPTION:Shambho! Dalle Alpi all’Himalaya 30.000 Km in auto. Cercando mia figlia ho trovato me stesso \n \nQuesto contenuto è disponibile in:
URL:https://turismo.comuneacqui.it/event/presentazione-del-libro-di-dino-benvenuti-shambho/
LOCATION:Biblioteca\, Piazza Maggiorino Ferraris\, Acqui Terme\, Alessandria\, 15011\, Italy
CATEGORIES:Mostre & Presentazioni Libri
ATTACH;FMTTYPE=:
GEO:44,6782443;8,465869
X-APPLE-STRUCTURED-LOCATION;VALUE=URI;X-ADDRESS=Biblioteca Piazza Maggiorino Ferraris Acqui Terme Alessandria 15011 Italy;X-APPLE-RADIUS=500;X-TITLE=Piazza Maggiorino Ferraris:geo:8,465869,44,6782443
END:VEVENT
END:VCALENDAR