
BEGIN:VCALENDAR
VERSION:2.0
PRODID:-//VISIT ACQUI TERME - ECPv5.12.3//NONSGML v1.0//EN
CALSCALE:GREGORIAN
METHOD:PUBLISH
X-WR-CALNAME:VISIT ACQUI TERME
X-ORIGINAL-URL:https://turismo.comuneacqui.it/?lang=en
X-WR-CALDESC:Events for VISIT ACQUI TERME
BEGIN:VTIMEZONE
TZID:UTC
BEGIN:STANDARD
TZOFFSETFROM:+0000
TZOFFSETTO:+0000
TZNAME:UTC
DTSTART:20250101T000000
END:STANDARD
END:VTIMEZONE
BEGIN:VEVENT
DTSTART;TZID=UTC:20251129T170000
DTEND;TZID=UTC:20251129T190000
DTSTAMP:20260421T235255
CREATED:20251119T102734Z
LAST-MODIFIED:20251119T102751Z
UID:58858-1764435600-1764442800@turismo.comuneacqui.it
SUMMARY:Presentazione dei libri IRISH PEOPLE e VERSO NORD
DESCRIPTION:Incontro con lo scrittore\, fotografo e musicista Roberto Storace. L’autore presenterà i libri Irish People e Verso Nord\, accompagnando il racconto con fotografie e aneddoti di viaggio. Suonerà dal vivo brani originali con chitarra e bouzouki\, mentre Raffaella Bergonzi proporrà danze tradizionali irlandesi. Introduce il consigliere delegato\, Matteo Ravera. \n\n\n\n\n\n\n\n\nQuesto contenuto è disponibile in:
URL:https://turismo.comuneacqui.it/event/presentazione-dei-libri-irish-people-e-verso-nord/?lang=en
LOCATION:Biblioteca Civica\, Via Maggiorino Ferraris\, 15\, Acqui Terme\, Italia
CATEGORIES:presentazione libri
ATTACH;FMTTYPE=image/jpeg:https://turismo.comuneacqui.it/wp-content/uploads/2025/11/LOCANDINA-ROBERTO-STORACE-scaled.jpg
END:VEVENT
END:VCALENDAR