
BEGIN:VCALENDAR
VERSION:2.0
PRODID:-//VISIT ACQUI TERME - ECPv5.12.3//NONSGML v1.0//EN
CALSCALE:GREGORIAN
METHOD:PUBLISH
X-WR-CALNAME:VISIT ACQUI TERME
X-ORIGINAL-URL:https://turismo.comuneacqui.it
X-WR-CALDESC:Eventi per VISIT ACQUI TERME
BEGIN:VTIMEZONE
TZID:UTC
BEGIN:STANDARD
TZOFFSETFROM:+0000
TZOFFSETTO:+0000
TZNAME:UTC
DTSTART:20220101T000000
END:STANDARD
END:VTIMEZONE
BEGIN:VEVENT
DTSTART;TZID=UTC:20221014T090000
DTEND;TZID=UTC:20221015T213000
DTSTAMP:20260424T104529
CREATED:20221005T141520Z
LAST-MODIFIED:20221005T141711Z
UID:44111-1665738000-1665869400@turismo.comuneacqui.it
SUMMARY:PREMIO ACQUI STORIA 55° EDIZIONE
DESCRIPTION:VENERDI’ 14 OTTOBRE 2022  – Teatro Ariston \nore 9.00 – presentazione dei lavori “laboratori di Lettura 2022” \nil Premio Acqui Storia nei progetti degli studenti degli Istituti “Rita Levi Montalcini e G. Parodi” \nmodera Gualberto Ranieri \nore 10.30 – conferenza/dibattito “Ucraina\, un’ipotesi di pace” \na quando una tregua? la dissoluzione dell’ex Jugoslavia può fare da modello per la pacificazione del conflitto Mosca-Kiev? \nSABATO 15 OTTOBRE 2022 – Teatro Ariston \nore 10.00 – i Vincitori del Premio incontrano il pubblico \nore 17.00 – CERIMONIA DI PREMIAZIONE DELLA 55° EDIZIONE DEL PREMIO ACQUI STORIA \nconduce Roberto Giacobbo \nENTRATA LIBERA partecipazione in presenza fino ad esaurimento posti.  E’ consigliata la prenotazione: info@acquistoria.it – Tel. 0144 770203 \n    \n  \n  \nQuesto contenuto è disponibile in:
URL:https://turismo.comuneacqui.it/event/premio-acqui-storia-55-edizione/
LOCATION:Teatro Ariston\, Piazza G. Matteotti\, Acqui Terme\, 15011\, Italy
CATEGORIES:Cultura & Cinema
ATTACH;FMTTYPE=image/jpeg:https://turismo.comuneacqui.it/wp-content/uploads/2022/10/ACQUI-STORIA-Promo-2022_70x100-Premiati-scaled.jpg
GEO:44,673537;8,4667326
X-APPLE-STRUCTURED-LOCATION;VALUE=URI;X-ADDRESS=Teatro Ariston Piazza G. Matteotti Acqui Terme 15011 Italy;X-APPLE-RADIUS=500;X-TITLE=Piazza G. Matteotti:geo:8,4667326,44,673537
END:VEVENT
END:VCALENDAR