
BEGIN:VCALENDAR
VERSION:2.0
PRODID:-//VISIT ACQUI TERME - ECPv5.12.3//NONSGML v1.0//EN
CALSCALE:GREGORIAN
METHOD:PUBLISH
X-WR-CALNAME:VISIT ACQUI TERME
X-ORIGINAL-URL:https://turismo.comuneacqui.it
X-WR-CALDESC:Eventi per VISIT ACQUI TERME
BEGIN:VTIMEZONE
TZID:UTC
BEGIN:STANDARD
TZOFFSETFROM:+0000
TZOFFSETTO:+0000
TZNAME:UTC
DTSTART:20190101T000000
END:STANDARD
END:VTIMEZONE
BEGIN:VEVENT
DTSTART;TZID=UTC:20190621T170000
DTEND;TZID=UTC:20190623T233000
DTSTAMP:20260421T105829
CREATED:20190527T133413Z
LAST-MODIFIED:20190620T095803Z
UID:16750-1561136400-1561332600@turismo.comuneacqui.it
SUMMARY:MERCATO EUROPEO Street Food - Artigianato - Mercato
DESCRIPTION:Una tre giorni con cibo da strada di qualità! \nLe proposte gastronomiche spazieranno dalle nazionali alle internazionali: hamburger di chianina\, hot dog \, cupcakes americani\, gnocco fritto\, olive all’ascolana\, arrosticini abruzzesi\, pizzoccheri\, alette di pollo marinate\, porchetta di Ariccia\, bombette\, verdure pastellate\, salumi umbri\, cotoletta alla milanese\, focaccia Ligure\, panzerotti\, arancine\, cannoli alla siciliana\, pittule fritte\, salsiccia di cavallo\, maritati salentini\, moscardini in guazzetto\, spiedini di tonno\, guanciale\, fritture di pesce\, pane al culatello\, stracciatella\, puccia pugliese\, tigella modenese\, dolci\, bomboloni\, carni grigliate\, birre artigianali e tanto altro.\n \nTutti i menù degli operatori presenteranno il giusto connubio tra il gusto dei sapori di una volta e la curiosità di provare pietanze rivisitate in chiave moderna\, preparate sapientemente da autentici gourmet su ruote.\n \nOrganizzazione e info: Procom Alessandria\nQuesto contenuto è disponibile in:
URL:https://turismo.comuneacqui.it/event/platea-cibis-street-food-2/
LOCATION:Corso Bagni\, Acqui Terme\, Alessandria\, 15011\, Italy
CATEGORIES:Sagre & Fiere
ATTACH;FMTTYPE=image/jpeg:https://turismo.comuneacqui.it/wp-content/uploads/2019/05/MERCATO-EUROPEO-Street-Food-–-Artigianato-–-Mercato.jpg
GEO:44,6763846;8,4670285
END:VEVENT
END:VCALENDAR