
BEGIN:VCALENDAR
VERSION:2.0
PRODID:-//VISIT ACQUI TERME - ECPv5.12.3//NONSGML v1.0//EN
CALSCALE:GREGORIAN
METHOD:PUBLISH
X-WR-CALNAME:VISIT ACQUI TERME
X-ORIGINAL-URL:https://turismo.comuneacqui.it
X-WR-CALDESC:Eventi per VISIT ACQUI TERME
BEGIN:VTIMEZONE
TZID:UTC
BEGIN:STANDARD
TZOFFSETFROM:+0000
TZOFFSETTO:+0000
TZNAME:UTC
DTSTART:20240101T000000
END:STANDARD
END:VTIMEZONE
BEGIN:VEVENT
DTSTART;TZID=UTC:20241130T110000
DTEND;TZID=UTC:20250126T230000
DTSTAMP:20260420T114413
CREATED:20241018T092633Z
LAST-MODIFIED:20241213T102354Z
UID:53137-1732964400-1737932400@turismo.comuneacqui.it
SUMMARY:PISTA DI PATTINAGGIO SU GHIACCIO
DESCRIPTION:Natale ad Acqui Terme: Pista di Pattinaggio\, Shopping e Bancarelle Natalizie! \nImmergiti nella magia del Natale e vivi il divertimento sulla pista di pattinaggio nel cuore di Acqui Terme! Un’esperienza unica per grandi e piccini\, perfetta per trascorrere momenti indimenticabili con famiglia e amici. Pattina immerso nell’atmosfera natalizia tra luci\, musica e un ambiente incantato.  Non perderti la magia del Natale ad Acqui Terme!  \nOrario di apertura: fino al 20/12/24 \ndal lunedì al giovedì 15:00-19:30; venerdì 15:00-23:00; sabato 11:00-23:00; domenica 11:00-19:30 \ndal 21/12/2024 al 05/01/2025 \ntutti i giorni dalle 11:00 alle 23:00 \ndal 07/01/2025 fino al 26/01/2025 \ndal lunedì al giovedì 15:00-19:30; venerdì 15:00-23:00; sabato 11:00-23:00 e domenica 11:00-19:30 \nORARIO DI APERTURA DURANTE LE FESTIVITA’ NATALIZIE:  \n24/12 dalle 11:00-19:30 \n25/12 dalle 15:00-23:00 \n31/12 dalle 11:00-19:30 \n01/01/2025 dalle 15:00 alle 23:00  \ne il 06/01/2025 dalle 11:00 alle 19:30 \nScopri tutti gli eventi natalizi su: www.natale.comune.acquiterme.al.it \nCondividi i tuoi momenti speciali sulla pista con l’hashtag #NataleAcquiTerme Ti aspettiamo per un Natale pieno di emozioni! \nQuesto contenuto è disponibile in:
URL:https://turismo.comuneacqui.it/event/pista-di-pattinaggio-su-ghiaccio-4/
LOCATION:Piazza Italia\, Acqui Terme\, 15011\, Italy
CATEGORIES:Sport
ATTACH;FMTTYPE=image/webp:https://turismo.comuneacqui.it/wp-content/uploads/2024/10/Snapinsta.app_1080_318211379_537635385044372_8971779631180246446_n.webp
GEO:44,6763846;8,4670285
END:VEVENT
END:VCALENDAR