
BEGIN:VCALENDAR
VERSION:2.0
PRODID:-//VISIT ACQUI TERME - ECPv5.12.3//NONSGML v1.0//EN
CALSCALE:GREGORIAN
METHOD:PUBLISH
X-WR-CALNAME:VISIT ACQUI TERME
X-ORIGINAL-URL:https://turismo.comuneacqui.it/?lang=en
X-WR-CALDESC:Events for VISIT ACQUI TERME
BEGIN:VTIMEZONE
TZID:UTC
BEGIN:STANDARD
TZOFFSETFROM:+0000
TZOFFSETTO:+0000
TZNAME:UTC
DTSTART:20190101T000000
END:STANDARD
END:VTIMEZONE
BEGIN:VEVENT
DTSTART;TZID=UTC:20190413T153000
DTEND;TZID=UTC:20190413T173000
DTSTAMP:20260421T123455
CREATED:20190328T063013Z
LAST-MODIFIED:20190328T063013Z
UID:15809-1555169400-1555176600@turismo.comuneacqui.it
SUMMARY:PIEMONTE ROMANICO - prima edizione
DESCRIPTION:Una giornata per i viaggiatori dello spirito. \nAlla scoperta dell’arte romanica. Lentezza\, silenzio\, bellezza e stupore. \nVisita guidata gratuita alla Chiesa dell’Addolorata e alla Cripta della Cattedrale di S. M. Assunta. Partenza alle ore 15.30 davanti all’Ufficio IAT (Palazzo Robellini\, Piazza Levi 5) \nInfo e prenotazioni: IAT 0144.322142  \nQuesto contenuto è disponibile in:
URL:https://turismo.comuneacqui.it/event/piemonte-romanico-prima-edizione/?lang=en
LOCATION:Città\, Piazza Levi 1\, Acqui Terme\, Al\, 15011\, Italy
CATEGORIES:Visite Guidate
ATTACH;FMTTYPE=:
ORGANIZER;CN="Ufficio%20Turismo":MAILTO:turismo@comuneacqui.com
END:VEVENT
END:VCALENDAR