
BEGIN:VCALENDAR
VERSION:2.0
PRODID:-//VISIT ACQUI TERME - ECPv5.12.3//NONSGML v1.0//EN
CALSCALE:GREGORIAN
METHOD:PUBLISH
X-WR-CALNAME:VISIT ACQUI TERME
X-ORIGINAL-URL:https://turismo.comuneacqui.it
X-WR-CALDESC:Eventi per VISIT ACQUI TERME
BEGIN:VTIMEZONE
TZID:UTC
BEGIN:STANDARD
TZOFFSETFROM:+0000
TZOFFSETTO:+0000
TZNAME:UTC
DTSTART:20190101T000000
END:STANDARD
END:VTIMEZONE
BEGIN:VEVENT
DTSTART;TZID=UTC:20190621T210000
DTEND;TZID=UTC:20190621T230000
DTSTAMP:20260421T143654
CREATED:20190318T101606Z
LAST-MODIFIED:20190620T100009Z
UID:15657-1561150800-1561158000@turismo.comuneacqui.it
SUMMARY:Per la Rassegna “CONCERTI ALLA SALA SANTA MARIA” – Spazio Classica
DESCRIPTION:“TRA SALOTTI E ……….. NIGHT CLUB” \nGiorgia Natale – flauto \nMarco Cristofaro – chitarra \nIngresso ad offerta libera fino ad esaurimento dei posti. Info: 329.5367708 \n  \nQuesto contenuto è disponibile in:
URL:https://turismo.comuneacqui.it/event/per-la-rassegna-concerti-alla-sala-santa-maria-spazio-classica-9/
LOCATION:Sala Santa Maria\, Via Domenico Barone\, 3\, Acqui Terme\, Alessandria\, 15011\, Italy
CATEGORIES:Musica & Nightlife
ATTACH;FMTTYPE=image/jpeg:https://turismo.comuneacqui.it/wp-content/uploads/2019/03/CONCERTI-ALLA-SALA-SANTA-MARIA”-–-Spazio-Classica.jpg
GEO:44,6742769;8,471895
X-APPLE-STRUCTURED-LOCATION;VALUE=URI;X-ADDRESS=Sala Santa Maria Via Domenico Barone 3 Acqui Terme Alessandria 15011 Italy;X-APPLE-RADIUS=500;X-TITLE=Via Domenico Barone\, 3:geo:8,471895,44,6742769
END:VEVENT
END:VCALENDAR