
BEGIN:VCALENDAR
VERSION:2.0
PRODID:-//VISIT ACQUI TERME - ECPv5.12.3//NONSGML v1.0//EN
CALSCALE:GREGORIAN
METHOD:PUBLISH
X-WR-CALNAME:VISIT ACQUI TERME
X-ORIGINAL-URL:https://turismo.comuneacqui.it
X-WR-CALDESC:Eventi per VISIT ACQUI TERME
BEGIN:VTIMEZONE
TZID:UTC
BEGIN:STANDARD
TZOFFSETFROM:+0000
TZOFFSETTO:+0000
TZNAME:UTC
DTSTART:20240101T000000
END:STANDARD
END:VTIMEZONE
BEGIN:VEVENT
DTSTART;TZID=UTC:20240314T173000
DTEND;TZID=UTC:20240327T183000
DTSTAMP:20260424T173019
CREATED:20240222T124211Z
LAST-MODIFIED:20240309T112347Z
UID:49283-1710437400-1711564200@turismo.comuneacqui.it
SUMMARY:NEL NOSTRO PIATTO
DESCRIPTION:Nel nostro piatto è un’esperienza interattiva e multimediale per capire\, scegliere e controllare cosa mangiamo. \nGiovedì 14 Marzo alle ore 17:30 Inaugurazione mostra Saluti istituzionali e introduzione alla mostra:Regione Piemonte Marco Protopapa\, Assessore Agricoltura e CiboCittà di Acqui Terme Danilo Rapetti Sardo Martini\, SindacoRossana Benazzo\, Assessore al Marketing TerritorialeAlle ore 16\,30 visita speciale per insegnanti ed educatori \nUN PERCORSO INTERATTIVO E MULTIMEDIALE di divulgazione scientifica sulle ricadute economiche\, sociali\, ambientali delle nostre scelte di cibo e dell’uso agricolo del territorio. \nINFORMARSI\, ATTRAVERSO IL GIOCO: dalle conoscenze di base all’approfondimento dei grandi temi di attualità per prestare maggior attenzione all’azione quotidiana del mangiare. \nUN’AVVENTURA STIMOLANTE: il cibo\, l’apparato digerente\, l’alimentazione\, il consumo consapevole\, la sostenibilità ambientale\, il ciclo di vita dei vari alimenti\, dal campo al nostro piatto. \nUN’ESPERIENZA PER FAMIGLIE E SCUOLE: 5 aree tematiche\, 18 postazioni interattive e multimediali\, 6 monitor tattili\, una grande proiezione centrale\, 18 capitoli\, 75 giochi e attività. \nUn’idea progettuale di Regione Piemonte organizzata con il contributo della Città di Acqui Terme e la fattiva collaborazione di ATL – Azienda Turistica Locale Alexala. \nLa mostra sarà aperta:  \n\nALLE SCUOLE E GRUPPI ORGANIZZATI: su prenotazione ATL ALEXALA – IAT – Informazione ed Accoglienza Turistica di Acqui Terme Tel. 0144.322142 – iat@comune.acquiterme.al.it oppure Ecofficina srl  – 011.7576932  338.3240636  mostranelnostropiatto@gmail.com  \nAL PUBBLICO: il sabato e la domenica con orario 15.30 -18.30.\n\nIngresso libero – visite guidate \n    nel_nostro_piatto_opuscolo_2023_acqui_terme_light \n\n\n\n\n\n\n\n\nQuesto contenuto è disponibile in:
URL:https://turismo.comuneacqui.it/event/nel-nostro-piatto/
LOCATION:Movicentro\, Piazza Giovanni Paolo II\, Acqui Terme\, 15011\, Italia
CATEGORIES:Arte e Cultura,Benessere
ATTACH;FMTTYPE=image/png:https://turismo.comuneacqui.it/wp-content/uploads/2024/02/Cattura1.png
END:VEVENT
END:VCALENDAR