
BEGIN:VCALENDAR
VERSION:2.0
PRODID:-//VISIT ACQUI TERME - ECPv5.12.3//NONSGML v1.0//EN
CALSCALE:GREGORIAN
METHOD:PUBLISH
X-WR-CALNAME:VISIT ACQUI TERME
X-ORIGINAL-URL:https://turismo.comuneacqui.it
X-WR-CALDESC:Eventi per VISIT ACQUI TERME
BEGIN:VTIMEZONE
TZID:UTC
BEGIN:STANDARD
TZOFFSETFROM:+0000
TZOFFSETTO:+0000
TZNAME:UTC
DTSTART:20250101T000000
END:STANDARD
END:VTIMEZONE
BEGIN:VEVENT
DTSTART;TZID=UTC:20251129T160000
DTEND;TZID=UTC:20251214T203000
DTSTAMP:20260421T111340
CREATED:20251112T084204Z
LAST-MODIFIED:20251112T140352Z
UID:58768-1764432000-1765744200@turismo.comuneacqui.it
SUMMARY:MOSTRA PERSONALE DI DEBORA CHIARLA
DESCRIPTION:” IMPRONTE D’ARTE” – Debora Chiarla & G. Chiarla. Mostra di pittura e legno \nInaugurazione sabato 29 novembre ore 16:00-20:00. \nOrario di apertura: da giovedì a sabato dalle 17:00 alle 20:00; domenica dalle 14:30 alle 18:30  – Chiuso lunedì\, martedì e mercoledì.   \nINGRESSO LIBERO  \n\n\n\n\n\n\n\n\nQuesto contenuto è disponibile in:
URL:https://turismo.comuneacqui.it/event/mostra-personale-di-debora-chiarla/
LOCATION:Palazzo Robellini\, Piazza Levi\, Acqui Terme\, 15011\, Italy
CATEGORIES:Arte e Cultura,Mostre & Presentazioni Libri
ATTACH;FMTTYPE=image/jpeg:https://turismo.comuneacqui.it/wp-content/uploads/2025/11/Chiarla_29-11-25-1.jpg
GEO:44,676318;8,4699349
X-APPLE-STRUCTURED-LOCATION;VALUE=URI;X-ADDRESS=Palazzo Robellini Piazza Levi Acqui Terme 15011 Italy;X-APPLE-RADIUS=500;X-TITLE=Piazza Levi:geo:8,4699349,44,676318
END:VEVENT
END:VCALENDAR