
BEGIN:VCALENDAR
VERSION:2.0
PRODID:-//VISIT ACQUI TERME - ECPv5.12.3//NONSGML v1.0//EN
CALSCALE:GREGORIAN
METHOD:PUBLISH
X-WR-CALNAME:VISIT ACQUI TERME
X-ORIGINAL-URL:https://turismo.comuneacqui.it
X-WR-CALDESC:Eventi per VISIT ACQUI TERME
BEGIN:VTIMEZONE
TZID:UTC
BEGIN:STANDARD
TZOFFSETFROM:+0000
TZOFFSETTO:+0000
TZNAME:UTC
DTSTART:20220101T000000
END:STANDARD
END:VTIMEZONE
BEGIN:VEVENT
DTSTART;TZID=UTC:20220924T130000
DTEND;TZID=UTC:20220924T180000
DTSTAMP:20260423T104500
CREATED:20220920T072857Z
LAST-MODIFIED:20220920T072857Z
UID:43961-1664024400-1664042400@turismo.comuneacqui.it
SUMMARY:Morn...Nizza 2022 - Cammino Pellegrinaggio
DESCRIPTION:Arrivo e sosta di una tappa della camminata – pellegrinaggio “Mor…Nizza \nEvento a  carattere culturale\, sportivo e religioso si svolge su tre giorni sulle strade percorse da Santa Maria Mazzarello come segue: primo giorno partenza da Nizza Monferrato\, secondo giorno da Nizza Monferrato ad Acqui Terme con pomeriggio trascorso nella nostra città\, il terzo giorno trascorso a Mornese. \nper informazioni: \nSuor Paola tel  0144 1806000 \ncliccare sulla locandina per il programma completo \nQuesto contenuto è disponibile in:
URL:https://turismo.comuneacqui.it/event/morn-nizza-2022-cammino-pellegrinaggio/
CATEGORIES:Sport
ATTACH;FMTTYPE=image/jpeg:https://turismo.comuneacqui.it/wp-content/uploads/2022/09/Mor...Nizza-2022.jpg
END:VEVENT
END:VCALENDAR