
BEGIN:VCALENDAR
VERSION:2.0
PRODID:-//VISIT ACQUI TERME - ECPv5.12.3//NONSGML v1.0//EN
CALSCALE:GREGORIAN
METHOD:PUBLISH
X-WR-CALNAME:VISIT ACQUI TERME
X-ORIGINAL-URL:https://turismo.comuneacqui.it/?lang=en
X-WR-CALDESC:Events for VISIT ACQUI TERME
BEGIN:VTIMEZONE
TZID:UTC
BEGIN:STANDARD
TZOFFSETFROM:+0000
TZOFFSETTO:+0000
TZNAME:UTC
DTSTART:20240101T000000
END:STANDARD
END:VTIMEZONE
BEGIN:VEVENT
DTSTART;TZID=UTC:20241004T100000
DTEND;TZID=UTC:20241006T100000
DTSTAMP:20260421T105832
CREATED:20240925T083346Z
LAST-MODIFIED:20240925T084202Z
UID:52821-1728036000-1728208800@turismo.comuneacqui.it
SUMMARY:MERCATO EUROPEO
DESCRIPTION:Mercato\, area street food\, enogastronomia e prodotti tipici.  L’evento nasce per far rivivere i colori\, i suoni\, i profumi di un Mercato ricco di prodotti tipici del territorio ed enogastronomia. Presenti più di 50 stand Europei ed internazionali \, spazio anche allo street food di qualità\, con cucine on the road. Si potranno gustare le prelibatezze italiane\, europee e del mondo. Il tutto accompagnato dalle migliori birre artigianali Orari : Ven -sab -dom : 10:00 /24:00 La Manifestazione è organizzata da Anva e Confesercenti Per informazioni: cel. 379 184 7686 – europamarketpqm@gmail.com \n\n\n\n\n\n\n\n\nQuesto contenuto è disponibile in:
URL:https://turismo.comuneacqui.it/event/mercato-europeo/?lang=en
LOCATION:Corso Bagni\, Acqui Terme\, Alessandria\, 15011\, Italy
CATEGORIES:Enogastronomia,Mercati
ATTACH;FMTTYPE=image/jpeg:https://turismo.comuneacqui.it/wp-content/uploads/2024/09/MERCATO-EUROPEO-4-5-E-6-OTTOBRE.jpg
GEO:44,6763846;8,4670285
END:VEVENT
END:VCALENDAR