
BEGIN:VCALENDAR
VERSION:2.0
PRODID:-//VISIT ACQUI TERME - ECPv5.12.3//NONSGML v1.0//EN
CALSCALE:GREGORIAN
METHOD:PUBLISH
X-WR-CALNAME:VISIT ACQUI TERME
X-ORIGINAL-URL:https://turismo.comuneacqui.it
X-WR-CALDESC:Eventi per VISIT ACQUI TERME
BEGIN:VTIMEZONE
TZID:UTC
BEGIN:STANDARD
TZOFFSETFROM:+0000
TZOFFSETTO:+0000
TZNAME:UTC
DTSTART:20220101T000000
END:STANDARD
END:VTIMEZONE
BEGIN:VEVENT
DTSTART;TZID=UTC:20220402T210000
DTEND;TZID=UTC:20220402T230000
DTSTAMP:20260424T190825
CREATED:20220326T150625Z
LAST-MODIFIED:20220326T171251Z
UID:42601-1648933200-1648940400@turismo.comuneacqui.it
SUMMARY:L'ORCHESTRA CLASSICA DI ALESSANDRIA PRESENTA IL FESTIVAL CONFLIXERE MIRANDO MUSICA SACRA
DESCRIPTION:“Et in ipso iucundemur” – III Edizione del Festival Conflixere Mirando Musica Sacra \nCoro di Voci Bianche del Teatro Carlo Felice di Genova\nEnrico Grillotti – pianoforte\nGino Tanasini – direttore \nMusiche di W.A.Mozart\nF. Listz\nB. Chilcott\nB. Britten \nAlle ore 21.00 – presso la Cattedrale di Nostra Signora Assunta \nAccesso consentito con super green pass e mascherina FFP2 \nInformazioni e prenotazioni tel. 338 9572665 / festivalconflixeremirando@gmail.com \nQuesto contenuto è disponibile in:
URL:https://turismo.comuneacqui.it/event/lorchestra-classica-di-alessandria-presenta-festival-conflixere-mirando-musica-sacra/
LOCATION:Cattedrale Santa Maria Assunta\, Piazza Duomo\, Acqui Terme\, AL\, 15010
CATEGORIES:Musica classica
ATTACH;FMTTYPE=image/jpeg:https://turismo.comuneacqui.it/wp-content/uploads/2022/03/CONCERTO-ORJCESTA-CLASSICA-DI-ALESSANDRIA-SABATO-2-APRILE-2022-rotated.jpg
GEO:44,6743624;8,4707454
X-APPLE-STRUCTURED-LOCATION;VALUE=URI;X-ADDRESS=Cattedrale Santa Maria Assunta Piazza Duomo Acqui Terme AL 15010;X-APPLE-RADIUS=500;X-TITLE=Piazza Duomo:geo:8,4707454,44,6743624
END:VEVENT
END:VCALENDAR