
BEGIN:VCALENDAR
VERSION:2.0
PRODID:-//VISIT ACQUI TERME - ECPv5.12.3//NONSGML v1.0//EN
CALSCALE:GREGORIAN
METHOD:PUBLISH
X-WR-CALNAME:VISIT ACQUI TERME
X-ORIGINAL-URL:https://turismo.comuneacqui.it
X-WR-CALDESC:Eventi per VISIT ACQUI TERME
BEGIN:VTIMEZONE
TZID:UTC
BEGIN:STANDARD
TZOFFSETFROM:+0000
TZOFFSETTO:+0000
TZNAME:UTC
DTSTART:20220101T000000
END:STANDARD
END:VTIMEZONE
BEGIN:VEVENT
DTSTART;TZID=UTC:20220624T210000
DTEND;TZID=UTC:20220624T230000
DTSTAMP:20260424T173521
CREATED:20220615T082245Z
LAST-MODIFIED:20220615T082245Z
UID:43049-1656104400-1656111600@turismo.comuneacqui.it
SUMMARY:L'ELISIR D'AMORE - MELODRAMMA IN DUE ATTI ESECUZIONE IN FORMA SEMISCENICA
DESCRIPTION:Gaetano Donizetti \ndalle ore 20.30 un calice di benvenuto con l’Elisir d’Amore – Marenco! \nMaestro Concertatore al pianoforte Raffaele Mascolo \nAlle ore 21.00 presso la Sala Santa Maria\, in via Barone\, 3 \nIngresso € 10\,00 con prenotazione obbligatoria Tel. 329 5367708 / www.lazzarinoecaviglia.com \n  \nQuesto contenuto è disponibile in:
URL:https://turismo.comuneacqui.it/event/lelisir-damore-melodramma-in-due-atti-esecuzione-in-forma-semiscenica/
LOCATION:Sala Santa Maria\, Via Domenico Barone\, 3\, Acqui Terme\, Alessandria\, 15011\, Italy
CATEGORIES:Musica classica
ATTACH;FMTTYPE=image/jpeg:https://turismo.comuneacqui.it/wp-content/uploads/2022/06/24-GIUGNO-L-ELISIR-D-AMORE.jpg
GEO:44,6742769;8,471895
X-APPLE-STRUCTURED-LOCATION;VALUE=URI;X-ADDRESS=Sala Santa Maria Via Domenico Barone 3 Acqui Terme Alessandria 15011 Italy;X-APPLE-RADIUS=500;X-TITLE=Via Domenico Barone\, 3:geo:8,471895,44,6742769
END:VEVENT
END:VCALENDAR