
BEGIN:VCALENDAR
VERSION:2.0
PRODID:-//VISIT ACQUI TERME - ECPv5.12.3//NONSGML v1.0//EN
CALSCALE:GREGORIAN
METHOD:PUBLISH
X-WR-CALNAME:VISIT ACQUI TERME
X-ORIGINAL-URL:https://turismo.comuneacqui.it/?lang=en
X-WR-CALDESC:Events for VISIT ACQUI TERME
BEGIN:VTIMEZONE
TZID:UTC
BEGIN:STANDARD
TZOFFSETFROM:+0000
TZOFFSETTO:+0000
TZNAME:UTC
DTSTART:20180101T000000
END:STANDARD
END:VTIMEZONE
BEGIN:VEVENT
DTSTART;TZID=UTC:20180421T170000
DTEND;TZID=UTC:20180421T190000
DTSTAMP:20260421T143516
CREATED:20180326T103058Z
LAST-MODIFIED:20180326T103058Z
UID:10307-1524330000-1524337200@turismo.comuneacqui.it
SUMMARY:Le Giornate Culturali dell'Acqui Storia
DESCRIPTION:Conferenza “Dalla Resistenza alla Costituzione” \nA cura dell’Associazione Memoria Viva e dell’Associazione Cattolica Italiana \nQuesto contenuto è disponibile in:
URL:https://turismo.comuneacqui.it/event/le-giornate-culturali-dellacqui-storia/?lang=en
LOCATION:Sala Convegni – Palazzo Robellini\, Piazza Levi 5\, Acqui Terme\, Alessandria\, 15011\, Italy
CATEGORIES:Cultura & Cinema
ATTACH;FMTTYPE=:
GEO:44.6765;8.46987
X-APPLE-STRUCTURED-LOCATION;VALUE=URI;X-ADDRESS=Sala Convegni – Palazzo Robellini Piazza Levi 5 Acqui Terme Alessandria 15011 Italy;X-APPLE-RADIUS=500;X-TITLE=Piazza Levi 5:geo:8.46987,44.6765
END:VEVENT
END:VCALENDAR