
BEGIN:VCALENDAR
VERSION:2.0
PRODID:-//VISIT ACQUI TERME - ECPv5.12.3//NONSGML v1.0//EN
CALSCALE:GREGORIAN
METHOD:PUBLISH
X-WR-CALNAME:VISIT ACQUI TERME
X-ORIGINAL-URL:https://turismo.comuneacqui.it
X-WR-CALDESC:Eventi per VISIT ACQUI TERME
BEGIN:VTIMEZONE
TZID:UTC
BEGIN:STANDARD
TZOFFSETFROM:+0000
TZOFFSETTO:+0000
TZNAME:UTC
DTSTART:20230101T000000
END:STANDARD
END:VTIMEZONE
BEGIN:VEVENT
DTSTART;TZID=UTC:20230522T160000
DTEND;TZID=UTC:20230614T190000
DTSTAMP:20260421T111530
CREATED:20230523T082320Z
LAST-MODIFIED:20230610T073009Z
UID:45893-1684771200-1686769200@turismo.comuneacqui.it
SUMMARY:L'ARTE COME ESPRESSIONE DI SOSTENIBILITÀ AMBIENTALE
DESCRIPTION:Concorso Rotary per gli studenti del Liceo Artistico I.I.S Guido Parodi di Acqui Terme \nEsposizione temporanea \nOpere grafico pittoriche – opere plastiche – opere di design \nda Lunedì a sabato dalle 16:00 alle 19:00\nSu prenotazione per gli studenti delle scuole acquesi \nsu prenotazione per gli studenti delle scuole acquesi\nper informazioni 0144 770300 \nQuesto contenuto è disponibile in:
URL:https://turismo.comuneacqui.it/event/larte-come-espressione-di-sostenibilita-ambientale/
LOCATION:Palazzo Robellini\, Piazza Levi\, Acqui Terme\, 15011\, Italy
CATEGORIES:Mostre & Presentazioni Libri
ATTACH;FMTTYPE=image/jpeg:https://turismo.comuneacqui.it/wp-content/uploads/2023/05/locandina-larte-come-espressione-di-sostenibilit-bando-rotary-a3-scaled.jpg
GEO:44,676318;8,4699349
X-APPLE-STRUCTURED-LOCATION;VALUE=URI;X-ADDRESS=Palazzo Robellini Piazza Levi Acqui Terme 15011 Italy;X-APPLE-RADIUS=500;X-TITLE=Piazza Levi:geo:8,4699349,44,676318
END:VEVENT
END:VCALENDAR