
BEGIN:VCALENDAR
VERSION:2.0
PRODID:-//VISIT ACQUI TERME - ECPv5.12.3//NONSGML v1.0//EN
CALSCALE:GREGORIAN
METHOD:PUBLISH
X-WR-CALNAME:VISIT ACQUI TERME
X-ORIGINAL-URL:https://turismo.comuneacqui.it
X-WR-CALDESC:Eventi per VISIT ACQUI TERME
BEGIN:VTIMEZONE
TZID:UTC
BEGIN:STANDARD
TZOFFSETFROM:+0000
TZOFFSETTO:+0000
TZNAME:UTC
DTSTART:20250101T000000
END:STANDARD
END:VTIMEZONE
BEGIN:VEVENT
DTSTART;TZID=UTC:20250927T170000
DTEND;TZID=UTC:20250927T193000
DTSTAMP:20260421T111210
CREATED:20250923T064114Z
LAST-MODIFIED:20250926T082828Z
UID:58183-1758992400-1759001400@turismo.comuneacqui.it
SUMMARY:LA GRANDE BOX AD ACQUI TERME
DESCRIPTION:match spettacolari! 3 sparring 13 dilettanti a contatto pieno 1 professionista INTERREGIONALE PIEMONTE EMILIA ROMAGNA ⭐ Main Event: Il beniamino di casa David Ferko PUGILE PRO su 6 riprese da 3 minuti! Sul ring anche i talenti dell’Acqui Boxe: Vicentini Mattia. \, Lorenzo Frulio\, Luca Mignone\, Giancarlo Talamo\, El Hlimi Zaccaria E i giovanissimi Nassiri Ziyad \, Vicentini Nicolò e De Sarno Celeste Aurora! Ingresso a offerta libera ☔ In caso di maltempo: Palestra Comunale “Ex Caserma” – Piazza Luigi Facelli ⚡ Non mancare! Una serata di sport\, adrenalina e passione! \n\n\n\n\n\n\n\n\nQuesto contenuto è disponibile in:
URL:https://turismo.comuneacqui.it/event/la-grande-box-ad-acqui-terme/
LOCATION:Teatro Verdi\, Piazza Conciliazione\, Acqui Terme\, 15011\, Italy
CATEGORIES:Sport
ATTACH;FMTTYPE=image/jpeg:https://turismo.comuneacqui.it/wp-content/uploads/2025/09/BOX-ACQUI-TERME.jpg
GEO:44,6750372;8,4724875
X-APPLE-STRUCTURED-LOCATION;VALUE=URI;X-ADDRESS=Teatro Verdi Piazza Conciliazione Acqui Terme 15011 Italy;X-APPLE-RADIUS=500;X-TITLE=Piazza Conciliazione:geo:8,4724875,44,6750372
END:VEVENT
END:VCALENDAR