
BEGIN:VCALENDAR
VERSION:2.0
PRODID:-//VISIT ACQUI TERME - ECPv5.12.3//NONSGML v1.0//EN
CALSCALE:GREGORIAN
METHOD:PUBLISH
X-WR-CALNAME:VISIT ACQUI TERME
X-ORIGINAL-URL:https://turismo.comuneacqui.it/?lang=en
X-WR-CALDESC:Events for VISIT ACQUI TERME
BEGIN:VTIMEZONE
TZID:Europe/Helsinki
BEGIN:DAYLIGHT
TZOFFSETFROM:+0200
TZOFFSETTO:+0300
TZNAME:EEST
DTSTART:20190331T010000
END:DAYLIGHT
BEGIN:STANDARD
TZOFFSETFROM:+0300
TZOFFSETTO:+0200
TZNAME:EET
DTSTART:20191027T010000
END:STANDARD
END:VTIMEZONE
BEGIN:VEVENT
DTSTART;TZID=Europe/Helsinki:20190727T160000
DTEND;TZID=Europe/Helsinki:20190728T030000
DTSTAMP:20260419T183637
CREATED:20190712T123328Z
LAST-MODIFIED:20190723T093229Z
UID:28759-1564243200-1564282800@turismo.comuneacqui.it
SUMMARY:LA CANZONE E' LA MIA ORA D'ARIA
DESCRIPTION:Arte\, Cibo e Vino \nRassegna di cantautorato figo. \nL’assessorato alle politiche sociali del comune propone una giornata di cantautorato emergente alla quale è possibile partecipare chiamata “La canzone è la mia ora d’aria”.\n20 cantautori si sfideranno pubblicamente una canzone a turno con ogni genere musicale in lingua italiana.\nAperture porte ore 16 con performance di poesia\, arte \, cibo\, vari stand\, la sera ci sarà la presentazione degli artisti e alle 21 inizio concerti. \nIl vincitore sarà decretato da una giuria e il premio sarà una produzione del videoclip della canzone vincitrice.\nL’iscrizione è gratuita. \nPer saperne di più clicca sulla locandina. \n  \nQuesto contenuto è disponibile in:
URL:https://turismo.comuneacqui.it/event/la-canzone-e-la-mia-ora-daria/?lang=en
LOCATION:Ex Carceri Castello dei Paleologi\, Via Morelli\, Acqui Terme\, 15011\, Italia
CATEGORIES:Music & Nightlife
ATTACH;FMTTYPE=image/png:https://turismo.comuneacqui.it/wp-content/uploads/2019/07/Cattura.png
END:VEVENT
END:VCALENDAR