
BEGIN:VCALENDAR
VERSION:2.0
PRODID:-//VISIT ACQUI TERME - ECPv5.12.3//NONSGML v1.0//EN
CALSCALE:GREGORIAN
METHOD:PUBLISH
X-WR-CALNAME:VISIT ACQUI TERME
X-ORIGINAL-URL:https://turismo.comuneacqui.it/?lang=en
X-WR-CALDESC:Events for VISIT ACQUI TERME
BEGIN:VTIMEZONE
TZID:UTC
BEGIN:STANDARD
TZOFFSETFROM:+0000
TZOFFSETTO:+0000
TZNAME:UTC
DTSTART:20190101T000000
END:STANDARD
END:VTIMEZONE
BEGIN:VEVENT
DTSTART;TZID=UTC:20190720T213000
DTEND;TZID=UTC:20190720T233000
DTSTAMP:20260421T141453
CREATED:20190606T133927Z
LAST-MODIFIED:20190629T133346Z
UID:24391-1563658200-1563665400@turismo.comuneacqui.it
SUMMARY:INTERHARMONY - International Music Festival
DESCRIPTION:Concerto di artisti internazionali \nhttps://turismo.comuneacqui.it/event/interharmony-international-music-festival-30/ \nprogramma di sala: https://www.interharmony.com/Italy2-student-showcase1 \n  \nQuesto contenuto è disponibile in:
URL:https://turismo.comuneacqui.it/event/interharmony-international-music-festival-30/?lang=en
LOCATION:Chiesa di Santo Spirito\, Via Don G. Bosco\, Acqui Terme\, 15011\, Italy
CATEGORIES:Music & Nightlife
ATTACH;FMTTYPE=image/jpeg:https://turismo.comuneacqui.it/wp-content/uploads/2019/06/Interarmony2019.jpg
GEO:44,6752731;8,4655861
X-APPLE-STRUCTURED-LOCATION;VALUE=URI;X-ADDRESS=Chiesa di Santo Spirito Via Don G. Bosco Acqui Terme 15011 Italy;X-APPLE-RADIUS=500;X-TITLE=Via Don G. Bosco:geo:8,4655861,44,6752731
END:VEVENT
END:VCALENDAR