
BEGIN:VCALENDAR
VERSION:2.0
PRODID:-//VISIT ACQUI TERME - ECPv5.12.3//NONSGML v1.0//EN
CALSCALE:GREGORIAN
METHOD:PUBLISH
X-WR-CALNAME:VISIT ACQUI TERME
X-ORIGINAL-URL:https://turismo.comuneacqui.it
X-WR-CALDESC:Eventi per VISIT ACQUI TERME
BEGIN:VTIMEZONE
TZID:UTC
BEGIN:STANDARD
TZOFFSETFROM:+0000
TZOFFSETTO:+0000
TZNAME:UTC
DTSTART:20190101T000000
END:STANDARD
END:VTIMEZONE
BEGIN:VEVENT
DTSTART;TZID=UTC:20190719T213000
DTEND;TZID=UTC:20190719T233000
DTSTAMP:20260421T213727
CREATED:20190305T100624Z
LAST-MODIFIED:20190712T114253Z
UID:15506-1563571800-1563579000@turismo.comuneacqui.it
SUMMARY:INTERHARMONY - INTERNATIONAL MUSIC FESTIVAL
DESCRIPTION:  \nConcerto di artisti internazionali con ospiti di eccezione \n\n Guy Braunstein\, violino\nMisha Quint\, violoncello\nAlexei Volodin\, pianoforte\n\n  \nQuesto contenuto è disponibile in:
URL:https://turismo.comuneacqui.it/event/interharmony-international-music-festival-28/
LOCATION:Cattedrale N.S. Assunta
CATEGORIES:Musica & Nightlife
ATTACH;FMTTYPE=image/jpeg:https://turismo.comuneacqui.it/wp-content/uploads/2019/06/Interarmony2019.jpg
ORGANIZER;CN="Ufficio%20Turismo":MAILTO:turismo@comuneacqui.com
END:VEVENT
END:VCALENDAR