
BEGIN:VCALENDAR
VERSION:2.0
PRODID:-//VISIT ACQUI TERME - ECPv5.12.3//NONSGML v1.0//EN
CALSCALE:GREGORIAN
METHOD:PUBLISH
X-WR-CALNAME:VISIT ACQUI TERME
X-ORIGINAL-URL:https://turismo.comuneacqui.it/?lang=en
X-WR-CALDESC:Events for VISIT ACQUI TERME
BEGIN:VTIMEZONE
TZID:UTC
BEGIN:STANDARD
TZOFFSETFROM:+0000
TZOFFSETTO:+0000
TZNAME:UTC
DTSTART:20190101T000000
END:STANDARD
END:VTIMEZONE
BEGIN:VEVENT
DTSTART;TZID=UTC:20190710T210000
DTEND;TZID=UTC:20190710T230000
DTSTAMP:20260421T130348
CREATED:20190304T103428Z
LAST-MODIFIED:20190629T074229Z
UID:15472-1562792400-1562799600@turismo.comuneacqui.it
SUMMARY:INTERHARMONY - INTERNATIONAL MUSIC FESTIVAL
DESCRIPTION:Concerto di musica classica con la partecipazione di Artisti Internazionali \nIngresso libero \nhttps://www.interharmony.com/Italy1-faculty-concert2 \nprogramma di sala https://www.interharmony.com/interharmony-concerts-italy \n  \nQuesto contenuto è disponibile in:
URL:https://turismo.comuneacqui.it/event/interharmony-international-music-festival-23/?lang=en
LOCATION:Chiesa Santo Spirito\, Via Don Bosco\, 8\, Acqui Terme\, 15011\, Italy
CATEGORIES:Music & Nightlife
ATTACH;FMTTYPE=image/jpeg:https://turismo.comuneacqui.it/wp-content/uploads/2019/06/Interarmony2019.jpg
GEO:44,6752724;8,4661536
X-APPLE-STRUCTURED-LOCATION;VALUE=URI;X-ADDRESS=Chiesa Santo Spirito Via Don Bosco 8 Acqui Terme 15011 Italy;X-APPLE-RADIUS=500;X-TITLE=Via Don Bosco\, 8:geo:8,4661536,44,6752724
END:VEVENT
END:VCALENDAR