
BEGIN:VCALENDAR
VERSION:2.0
PRODID:-//VISIT ACQUI TERME - ECPv5.12.3//NONSGML v1.0//EN
CALSCALE:GREGORIAN
METHOD:PUBLISH
X-WR-CALNAME:VISIT ACQUI TERME
X-ORIGINAL-URL:https://turismo.comuneacqui.it
X-WR-CALDESC:Eventi per VISIT ACQUI TERME
BEGIN:VTIMEZONE
TZID:UTC
BEGIN:STANDARD
TZOFFSETFROM:+0000
TZOFFSETTO:+0000
TZNAME:UTC
DTSTART:20180101T000000
END:STANDARD
END:VTIMEZONE
BEGIN:VEVENT
DTSTART;TZID=UTC:20180720T213000
DTEND;TZID=UTC:20180720T233000
DTSTAMP:20260421T111515
CREATED:20180514T103747Z
LAST-MODIFIED:20180514T103747Z
UID:12022-1532122200-1532129400@turismo.comuneacqui.it
SUMMARY:InterHarmony International Music Festival
DESCRIPTION:Festival Internazionale di Musica Classica dal 4 al 28 luglio 2018. \nEsibizione di Giovani Artisti della II Sessione: Musicisti Premiati in Concerto.   \nOre 21.30 Sala Hotel La Meridiana\, Piazza Duomo 4. Ingresso libero \n \nQuesto contenuto è disponibile in:
URL:https://turismo.comuneacqui.it/event/interharmony-international-music-festival-12/
LOCATION:Sala La Meridiana\, Piazza Duomo\, 4\, Acqui Terme\, AL\, 15010\, Italy
CATEGORIES:Cultura & Cinema,Musica & Nightlife
ATTACH;FMTTYPE=:
ORGANIZER;CN="Ufficio%20Turismo":MAILTO:turismo@comuneacqui.com
END:VEVENT
END:VCALENDAR