
BEGIN:VCALENDAR
VERSION:2.0
PRODID:-//VISIT ACQUI TERME - ECPv5.12.3//NONSGML v1.0//EN
CALSCALE:GREGORIAN
METHOD:PUBLISH
X-WR-CALNAME:VISIT ACQUI TERME
X-ORIGINAL-URL:https://turismo.comuneacqui.it/?lang=en
X-WR-CALDESC:Events for VISIT ACQUI TERME
BEGIN:VTIMEZONE
TZID:UTC
BEGIN:STANDARD
TZOFFSETFROM:+0000
TZOFFSETTO:+0000
TZNAME:UTC
DTSTART:20240101T000000
END:STANDARD
END:VTIMEZONE
BEGIN:VEVENT
DTSTART;TZID=UTC:20241212T103000
DTEND;TZID=UTC:20241212T123000
DTSTAMP:20260421T105832
CREATED:20241206T083530Z
LAST-MODIFIED:20241206T083532Z
UID:53956-1733999400-1734006600@turismo.comuneacqui.it
SUMMARY:INNAMORATI DI ME
DESCRIPTION:Un evento speciale che esplora il rapporto tra i giovani e il patrimonio culturale\, con l’obiettivo di sviluppare nuovi modelli sociali per un futuro migliore.\n\nInterverranno: • Maurizio Harari\, già Direttore del Dipartimento di Studi Umanistici dell’Università degli Studi di Pavia\, che offrirà il suo contributo sull’importanza della cultura nella formazione dei giovani. • Antonio Marziale\, Sociologo e Fondatore dell’Osservatorio sui Diritti dei Minori\, che rifletterà sulle implicazioni sociali dei progetti educativi e culturali rivolti alle nuove generazioni.\n\nGli studenti delle classi 4A e 5A del settore Economico indirizzo Turismo dell’Istituto di Istruzione “Rita Levi Montalcini” (sotto la guida del professor Fabrizio Foglino e della professoressa Viviana Pisu)\, e delle classi 4I e 5I del Liceo Artistico dell’Istituto di Istruzione Superiore “G. Parodi” (seguiti dalla professoressa Serena Abello)\, presenteranno gli elaborati creati durante l’iniziativa.\n\n#GiovaniECultura #PatrimonioCulturale #ModelliSociali #InnamoratiDiMe #EducazioneCulturale #DirittiDeiMinori #Turismo #Arte #CulturaPerIlFuturo #InnovazioneSociale\n\n\n\n\nQuesto contenuto è disponibile in:
URL:https://turismo.comuneacqui.it/event/innamorati-di-me/?lang=en
LOCATION:Sala Convegni Ex Kaimano\, Via M. Ferraris\, Acqui Terme\, 15011\, Italy
CATEGORIES:Non categorizzato
ATTACH;FMTTYPE=image/jpeg:https://turismo.comuneacqui.it/wp-content/uploads/2024/12/LOCANDINA-INNAMORATI-DI-ME.jpg
GEO:44,6782443;8,465869
X-APPLE-STRUCTURED-LOCATION;VALUE=URI;X-ADDRESS=Sala Convegni Ex Kaimano Via M. Ferraris Acqui Terme 15011 Italy;X-APPLE-RADIUS=500;X-TITLE=Via M. Ferraris:geo:8,465869,44,6782443
END:VEVENT
END:VCALENDAR