
BEGIN:VCALENDAR
VERSION:2.0
PRODID:-//VISIT ACQUI TERME - ECPv5.12.3//NONSGML v1.0//EN
CALSCALE:GREGORIAN
METHOD:PUBLISH
X-WR-CALNAME:VISIT ACQUI TERME
X-ORIGINAL-URL:https://turismo.comuneacqui.it/?lang=en
X-WR-CALDESC:Events for VISIT ACQUI TERME
BEGIN:VTIMEZONE
TZID:UTC
BEGIN:STANDARD
TZOFFSETFROM:+0000
TZOFFSETTO:+0000
TZNAME:UTC
DTSTART:20190101T000000
END:STANDARD
END:VTIMEZONE
BEGIN:VEVENT
DTSTART;TZID=UTC:20190612T210000
DTEND;TZID=UTC:20190612T233000
DTSTAMP:20260422T015018
CREATED:20190531T064934Z
LAST-MODIFIED:20190531T064934Z
UID:16798-1560373200-1560382200@turismo.comuneacqui.it
SUMMARY:INFERNO
DESCRIPTION:Opera rock originale scritta da Marcello Chiaraluce\, con recitazione\, canto e musica dal vivo a cura dei ragazzi della Compagnia Belli da Morire. Balletti a cura dell’A.S.D. Entrèe Danza \nLa trama è ispirata al primo canto della Divina Commedia ed in particolare al rapporto di Dante con Beatrice e con la moglie Gemma Donati: un’allegoria sull’amore idealizzato\, sul rapporto di coppia e le contraddizioni del genere umano. \nLa compagnia Belli da Morire è formata da giovanissimi attori\, musicisti e cantanti di età compresa tra i 13 e i 22 anni che frequentano l’omonima Scuola di musica e teatro di Acqui Terme \nIngresso a offerta libera \nQuesto contenuto è disponibile in:
URL:https://turismo.comuneacqui.it/event/inferno/?lang=en
LOCATION:Teatro Ariston\, Piazza G. Matteotti\, Acqui Terme\, 15011\, Italy
CATEGORIES:Music & Nightlife
ATTACH;FMTTYPE=:
GEO:44,673537;8,4667326
X-APPLE-STRUCTURED-LOCATION;VALUE=URI;X-ADDRESS=Teatro Ariston Piazza G. Matteotti Acqui Terme 15011 Italy;X-APPLE-RADIUS=500;X-TITLE=Piazza G. Matteotti:geo:8,4667326,44,673537
END:VEVENT
END:VCALENDAR