
BEGIN:VCALENDAR
VERSION:2.0
PRODID:-//VISIT ACQUI TERME - ECPv5.12.3//NONSGML v1.0//EN
CALSCALE:GREGORIAN
METHOD:PUBLISH
X-WR-CALNAME:VISIT ACQUI TERME
X-ORIGINAL-URL:https://turismo.comuneacqui.it/?lang=en
X-WR-CALDESC:Events for VISIT ACQUI TERME
BEGIN:VTIMEZONE
TZID:UTC
BEGIN:STANDARD
TZOFFSETFROM:+0000
TZOFFSETTO:+0000
TZNAME:UTC
DTSTART:20230101T000000
END:STANDARD
END:VTIMEZONE
BEGIN:VEVENT
DTSTART;TZID=UTC:20230603T170000
DTEND;TZID=UTC:20230603T213000
DTSTAMP:20260424T150747
CREATED:20230518T154057Z
LAST-MODIFIED:20230531T083200Z
UID:45867-1685811600-1685827800@turismo.comuneacqui.it
SUMMARY:I SUONI DELLA NATURA NEL BIRDGARDEN DEL CASTELLO
DESCRIPTION:Presentazione del Volume: BIRDGARDEN – I SUONI DELLA NATURA E I SUOI OSPITI di Angela Zaffignani\nedito da Mattioli 1885 – prefazione di Pia Pera – disegni di Gabriele Pozzi\nUna guida alla realizzazione di un giardino secondo natura partendo dai consigli pratici sino agli esempi di giardini realizzati.\nInterverranno l’autrice Angela Zaffignani e l’Arch. Giordano Rolando Pierino \nESPERIENZA SONORA\nLEON / Alex Leon – Violin\nTHE SOUND OF NATURE\nIl Suono della Natura \nIN CASO SI MALTEMPO L’EVENTO SI SVOLGERA’ SOTTO IL PORTICATO DEL MUSEO  \n  \ningresso libero \nQuesto contenuto è disponibile in:
URL:https://turismo.comuneacqui.it/event/i-suoni-della-natura-nel-birdgarden-del-castello/?lang=en
LOCATION:Birdgarden Castello dei Paleologi
CATEGORIES:presentazione libri
ATTACH;FMTTYPE=image/jpeg:https://turismo.comuneacqui.it/wp-content/uploads/2023/05/2023-06-03-I-Suoni-della-Natura-nel-Birdgarden-ZAFFIGNANI1-scaled.jpg
END:VEVENT
END:VCALENDAR