
BEGIN:VCALENDAR
VERSION:2.0
PRODID:-//VISIT ACQUI TERME - ECPv5.12.3//NONSGML v1.0//EN
CALSCALE:GREGORIAN
METHOD:PUBLISH
X-WR-CALNAME:VISIT ACQUI TERME
X-ORIGINAL-URL:https://turismo.comuneacqui.it
X-WR-CALDESC:Eventi per VISIT ACQUI TERME
BEGIN:VTIMEZONE
TZID:UTC
BEGIN:STANDARD
TZOFFSETFROM:+0000
TZOFFSETTO:+0000
TZNAME:UTC
DTSTART:20180101T000000
END:STANDARD
END:VTIMEZONE
BEGIN:VEVENT
DTSTART;TZID=UTC:20180608T180000
DTEND;TZID=UTC:20180608T200000
DTSTAMP:20260420T060355
CREATED:20180525T075437Z
LAST-MODIFIED:20180525T075437Z
UID:12319-1528480800-1528488000@turismo.comuneacqui.it
SUMMARY:HOLI SPLASH RUN
DESCRIPTION:Corsa non competitiva di 5 km \nCentro Polisportivo di Regione Mombarone – Partenza \, ore 18 \nOrganizzazione e Info: www.mombarone.com \nQuesto contenuto è disponibile in:
URL:https://turismo.comuneacqui.it/event/holi-splash-run/
LOCATION:Mombarone\, Piazza Martiri delle Foibe\, Acqui Terme\, 15011\, Italy
CATEGORIES:Sport
ATTACH;FMTTYPE=:
GEO:44,6841442;8,4619064
X-APPLE-STRUCTURED-LOCATION;VALUE=URI;X-ADDRESS=Mombarone Piazza Martiri delle Foibe Acqui Terme 15011 Italy;X-APPLE-RADIUS=500;X-TITLE=Piazza Martiri delle Foibe:geo:8,4619064,44,6841442
END:VEVENT
END:VCALENDAR