
BEGIN:VCALENDAR
VERSION:2.0
PRODID:-//VISIT ACQUI TERME - ECPv5.12.3//NONSGML v1.0//EN
CALSCALE:GREGORIAN
METHOD:PUBLISH
X-WR-CALNAME:VISIT ACQUI TERME
X-ORIGINAL-URL:https://turismo.comuneacqui.it
X-WR-CALDESC:Eventi per VISIT ACQUI TERME
BEGIN:VTIMEZONE
TZID:UTC
BEGIN:STANDARD
TZOFFSETFROM:+0000
TZOFFSETTO:+0000
TZNAME:UTC
DTSTART:20250101T000000
END:STANDARD
END:VTIMEZONE
BEGIN:VEVENT
DTSTART;TZID=UTC:20250315T153000
DTEND;TZID=UTC:20250315T193000
DTSTAMP:20260421T111104
CREATED:20250204T081508Z
LAST-MODIFIED:20250204T081509Z
UID:54611-1742052600-1742067000@turismo.comuneacqui.it
SUMMARY:GRAN CARNEVALE DEI BAMBINI
DESCRIPTION:Per festeggiare tutti insieme il  Carnevale dei bambini   vi aspettiamo al Centro Congressi per il Gran ballo in maschera! Un pomeriggio di puro divertimento con:\n\n 	musica\n 	animazione\n 	baby dance\n 	truccabimbi\n 	pentolaccia\n 	merenda\n\nINGRESSO LIBERO\n\n\n\n\nQuesto contenuto è disponibile in:
URL:https://turismo.comuneacqui.it/event/gran-carnevale-dei-bambini-2/
LOCATION:Centro Congressi\, Viale Antiche Terme\, Acqui Terme\, Alessandria\, 15011\, Italy
CATEGORIES:Folklore,Gioco e divertimento
ATTACH;FMTTYPE=image/jpeg:https://turismo.comuneacqui.it/wp-content/uploads/2025/02/CARNEVALE-Promo-2024.jpg
GEO:44,6598225;8,4694141
X-APPLE-STRUCTURED-LOCATION;VALUE=URI;X-ADDRESS=Centro Congressi Viale Antiche Terme Acqui Terme Alessandria 15011 Italy;X-APPLE-RADIUS=500;X-TITLE=Viale Antiche Terme:geo:8,4694141,44,6598225
END:VEVENT
END:VCALENDAR