
BEGIN:VCALENDAR
VERSION:2.0
PRODID:-//VISIT ACQUI TERME - ECPv5.12.3//NONSGML v1.0//EN
CALSCALE:GREGORIAN
METHOD:PUBLISH
X-WR-CALNAME:VISIT ACQUI TERME
X-ORIGINAL-URL:https://turismo.comuneacqui.it
X-WR-CALDESC:Eventi per VISIT ACQUI TERME
BEGIN:VTIMEZONE
TZID:Europe/Paris
BEGIN:DAYLIGHT
TZOFFSETFROM:+0100
TZOFFSETTO:+0200
TZNAME:CEST
DTSTART:20210328T010000
END:DAYLIGHT
BEGIN:STANDARD
TZOFFSETFROM:+0200
TZOFFSETTO:+0100
TZNAME:CET
DTSTART:20211031T010000
END:STANDARD
END:VTIMEZONE
BEGIN:VEVENT
DTSTART;TZID=Europe/Paris:20210317T080000
DTEND;TZID=Europe/Paris:20210317T080000
DTSTAMP:20260425T000301
CREATED:20210309T093422Z
LAST-MODIFIED:20210311T114228Z
UID:39322-1615968000-1615968000@turismo.comuneacqui.it
SUMMARY:Global Greening 2021
DESCRIPTION:La Bollente di Acqui Terme si unisce ai festeggiamenti mondiali del Global Greening\, promosso da Tourism Ireland. Insieme alla Torre di Pisa\, al Maschio Angioino di Napoli ed a altri 39 monumenti in Italia\, il simbolo della città termale si tingerà di verde il 17 marzo per onorare il giorno di San Patrizio\, patrono dell’Irlanda: unico monumento a rappresentare la provincia di Alessandria.  \nIl Global Greening ha preso il via 11 anni fa in Australia con l’illuminazione di verde dell’iconico Sydney Opera House\, che anche quest’anno si unirà alle celebrazioni. L’usanza di adoperare il color trifoglio per illuminare edifici e monumenti è un modo per rendere onore alla Terra Smeraldo\, l’Irlanda.  \nQuest’anno saranno quasi 440 i siti che prenderanno parte a livello mondiale all’evento: si tratta di un numero record che vuole essere anche un messaggio di amicizia e speranza in questo particolare periodo storico. Tra le novità internazionali: una cassetta delle lettere in cima alla Øretoppen Mountain in Norvegia\, 350 km sopra il Circolo Polare Artico; la fontana più grande del mondo\, The Palm Fountain\, a Dubai; l’edificio più alto del Sud America\, la Torre Costanera del Cile; il Castello di Bled in Slovenia; Pacific Park sul molo di Santa Monica in California; BC Place a Vancouver; il Sekenani Gate presso la Riserva Nazionale di Maasai Mara in Kenya; Villa E-1027 a Roquebrune-Cap-Martin in Francia\, progettata e costruita dall’architetto e designer di mobili irlandese Eileen Gray. \nPer maggior informazioni vi invitiamo a visitare il sito ufficiale del TOURISM IRELAND \nhttps://www.tourismireland.com/Press-Releases/2021/March/Tourism-Ireland-announces-Global-Greening-line-1 \n  \n03_03 Turismo Irlandese annuncia i monumenti che prenderanno parte al Global Greening 2021\nQuesto contenuto è disponibile in:
URL:https://turismo.comuneacqui.it/event/global-greening-2021/
LOCATION:Piazza Bollente\, Piazza della Bollente\, Acqui Terme\, Alessandria\, 15011
CATEGORIES:Solidarietà
ATTACH;FMTTYPE=image/jpeg:https://turismo.comuneacqui.it/wp-content/uploads/2021/03/acqui_terme_piemonte_bollente_low.jpg
END:VEVENT
END:VCALENDAR