
BEGIN:VCALENDAR
VERSION:2.0
PRODID:-//VISIT ACQUI TERME - ECPv5.12.3//NONSGML v1.0//EN
CALSCALE:GREGORIAN
METHOD:PUBLISH
X-WR-CALNAME:VISIT ACQUI TERME
X-ORIGINAL-URL:https://turismo.comuneacqui.it
X-WR-CALDESC:Eventi per VISIT ACQUI TERME
BEGIN:VTIMEZONE
TZID:UTC
BEGIN:STANDARD
TZOFFSETFROM:+0000
TZOFFSETTO:+0000
TZNAME:UTC
DTSTART:20180101T000000
END:STANDARD
END:VTIMEZONE
BEGIN:VEVENT
DTSTART;TZID=UTC:20180707T100000
DTEND;TZID=UTC:20180707T170000
DTSTAMP:20260424T104101
CREATED:20180406T092527Z
LAST-MODIFIED:20180406T092527Z
UID:10429-1530957600-1530982800@turismo.comuneacqui.it
SUMMARY:GIRO ROSA
DESCRIPTION: GIRO D’ITALIA FEMMINILE DI  CICLISMO \n2° Tappa: Ovada – Ovada Km 120 ca \nArrivo da Visone previsto per le 12.40. \nPercorso cittadino: Viale Einaudi\, Ponte Carlo Alberto\, Corso Bagni (traguardo volante)\, Via Monteverde\, Via Alessandria \nQuesto contenuto è disponibile in:
URL:https://turismo.comuneacqui.it/event/giro-rosa/
LOCATION:Viale Einaudi
CATEGORIES:Sport
ATTACH;FMTTYPE=:
ORGANIZER;CN="Ufficio%20Turismo":MAILTO:turismo@comuneacqui.com
GEO:44,6651435;8,4713547
END:VEVENT
END:VCALENDAR