
BEGIN:VCALENDAR
VERSION:2.0
PRODID:-//VISIT ACQUI TERME - ECPv5.12.3//NONSGML v1.0//EN
CALSCALE:GREGORIAN
METHOD:PUBLISH
X-WR-CALNAME:VISIT ACQUI TERME
X-ORIGINAL-URL:https://turismo.comuneacqui.it
X-WR-CALDESC:Eventi per VISIT ACQUI TERME
BEGIN:VTIMEZONE
TZID:UTC
BEGIN:STANDARD
TZOFFSETFROM:+0000
TZOFFSETTO:+0000
TZNAME:UTC
DTSTART:20220101T000000
END:STANDARD
END:VTIMEZONE
BEGIN:VEVENT
DTSTART;TZID=UTC:20220619T100000
DTEND;TZID=UTC:20220619T200000
DTSTAMP:20260419T192952
CREATED:20220610T095641Z
LAST-MODIFIED:20220610T095641Z
UID:43028-1655632800-1655668800@turismo.comuneacqui.it
SUMMARY:GIORNATE EUROPEE DELL'ARCHEOLOGIA LUDI AQUAENSES MMXXII - GIORNATA DI RIEVOCAZIONE STORICA
DESCRIPTION:Didattiche rievocative – Laboratorio di Teatro Antico \nAlle ore 18.00 – LECTIO SCAENICA – I Ludi tra ritualità\, divertimento e spettacolo \nAlle ore 18.30 AULULARIA – Commedia palliata di TITO MACCIO PLAUTO – rappresentazione teatrale / Teatro della Juta \nLudi Scaenici fabula palliata – Commedia Antica \nVISITE GUIDATE AL MUSEO E AI DEPOSITI MUSEALI ALLE ORE 11.00; 16.00 e  17.00 \nL’evento si svolgerà presso il Giardino del Castello – Museo Archeologico \n  \nQuesto contenuto è disponibile in:
URL:https://turismo.comuneacqui.it/event/giornate-europee-dellarcheologia-ludi-aquaenses-mmxxii-giornata-di-rievocazione-storica/
LOCATION:Museo Archeologico\, Via Morelli\, Acqui Terme
CATEGORIES:Cultura & Cinema
ATTACH;FMTTYPE=image/jpeg:https://turismo.comuneacqui.it/wp-content/uploads/2022/06/LOCANDINA-LUDI-AQUAENSES-1.jpg
GEO:44,6742907;8,4723274
X-APPLE-STRUCTURED-LOCATION;VALUE=URI;X-ADDRESS=Museo Archeologico Via Morelli Acqui Terme;X-APPLE-RADIUS=500;X-TITLE=Via Morelli:geo:8,4723274,44,6742907
END:VEVENT
END:VCALENDAR