
BEGIN:VCALENDAR
VERSION:2.0
PRODID:-//VISIT ACQUI TERME - ECPv5.12.3//NONSGML v1.0//EN
CALSCALE:GREGORIAN
METHOD:PUBLISH
X-WR-CALNAME:VISIT ACQUI TERME
X-ORIGINAL-URL:https://turismo.comuneacqui.it
X-WR-CALDESC:Eventi per VISIT ACQUI TERME
BEGIN:VTIMEZONE
TZID:UTC
BEGIN:STANDARD
TZOFFSETFROM:+0000
TZOFFSETTO:+0000
TZNAME:UTC
DTSTART:20250101T000000
END:STANDARD
END:VTIMEZONE
BEGIN:VEVENT
DTSTART;TZID=UTC:20250927T150000
DTEND;TZID=UTC:20250928T190000
DTSTAMP:20260424T104955
CREATED:20250919T084014Z
LAST-MODIFIED:20250919T084740Z
UID:58156-1758985200-1759086000@turismo.comuneacqui.it
SUMMARY:GIORNATE EUROPEE DEL PATRIMONIO 2025 - NOTTE AL MUSEO
DESCRIPTION:“NOTTE AL MUSEO” – ARCHEOLOGIA\, ARTE\, MUSICA E VINI AROMATICI Museo Archeologico di Acqui Terme – Piscina Romana – Casa del Vasaio La città di Acqui Terme si prepara a vivere un fine settimana all’insegna della cultura\, della storia e dell’emozione. In occasione delle Giornate Europee del Patrimonio 2025\, il Sistema Museale di Acqui Terme e Soprintendenza ABAP AL\, con il patrocinio di Regione Piemonte\, Provincia di Alessandria\, invita cittadini e visitatori a un evento speciale capace di unire il fascino dell’archeologia alla magia di un percorso unico. In collaborazione con il Consorzio Tutela Vini D’Acqui\, Consorzio Asti DOCG\, Rete Teatri e Natarajita Tribal Fusion. L’iniziativa\, inserita nel progetto “Acqui Terme Romana”\, vedrà protagonisti il Museo Archeologico\, la Piscina Romana e la Casa del Vasaio\, con un programma che coinvolgerà attivamente il personale della Soprintendenza ABAP AL e guiderà i partecipanti alla scoperta dei tesori archeologici della città\, condividendo conoscenze\, curiosità e approfondimenti storici. \nPROGRAMMA \nSABATO 27 SETTEMBRE – Alle ore 16:00 – 17:00 – 18:00 | Visite guidate al Museo Archeologico Dalle 20:00 | NOTTE AL MUSEO – Percorso a lume di candela tra archeologia\, arte e musica Biglietto unico straordinario: 1 € (prenotazione consigliata)   \nDOMENICA 28 SETTEMBRE – Alle ore 15:00 – 15:50 – 16:30 – 17:30 – 18:15 Apertura straordinaria e visite guidate gratuite alle aree archeologiche: Piscina Romana (Corso Bagni) e Casa del Vasaio (Via Cassino) a cura del personale della Soprintendenza ABAP AL  \nINFO & PRENOTAZIONI: TEL. 0144 322142 |  353 4026244 www.visitacquiterme.it \n\n\n\n\n\n\n\n\nQuesto contenuto è disponibile in:
URL:https://turismo.comuneacqui.it/event/giornate-europee-del-patrimonio-2025-notte-al-museo/
LOCATION:Museo Archeologico\, Via Morelli\, Acqui Terme
CATEGORIES:Arte e Cultura,Visite Guidate
ATTACH;FMTTYPE=image/jpeg:https://turismo.comuneacqui.it/wp-content/uploads/2025/09/2025-09-27-GIornate-Europee-del-Patrimonio-ACQUI-TERME-ROMANA.jpg
GEO:44,6742907;8,4723274
X-APPLE-STRUCTURED-LOCATION;VALUE=URI;X-ADDRESS=Museo Archeologico Via Morelli Acqui Terme;X-APPLE-RADIUS=500;X-TITLE=Via Morelli:geo:8,4723274,44,6742907
END:VEVENT
END:VCALENDAR