
BEGIN:VCALENDAR
VERSION:2.0
PRODID:-//VISIT ACQUI TERME - ECPv5.12.3//NONSGML v1.0//EN
CALSCALE:GREGORIAN
METHOD:PUBLISH
X-WR-CALNAME:VISIT ACQUI TERME
X-ORIGINAL-URL:https://turismo.comuneacqui.it/?lang=en
X-WR-CALDESC:Events for VISIT ACQUI TERME
BEGIN:VTIMEZONE
TZID:UTC
BEGIN:STANDARD
TZOFFSETFROM:+0000
TZOFFSETTO:+0000
TZNAME:UTC
DTSTART:20260101T000000
END:STANDARD
END:VTIMEZONE
BEGIN:VEVENT
DTSTART;TZID=UTC:20260426T093000
DTEND;TZID=UTC:20260426T123000
DTSTAMP:20260424T154146
CREATED:20260422T155850Z
LAST-MODIFIED:20260422T160018Z
UID:60940-1777195800-1777206600@turismo.comuneacqui.it
SUMMARY:Futurambiente – Camminata Urbana
DESCRIPTION:NATURA URBANA – in escursione con Matteo S. Polo e Alessio Zunino. Ritrovo ore 9.30 presso gli Archi Romani – partenza ore 10.00 – lunghezza 2km – durata 2 ore. Iscrizioni entro venerdì 24 aprile tel. 334 2256254.  ESCURSIONE GRATUITA – MAX 25 PARTECIPANTI \n\n\n\n\n\n\n\n\nQuesto contenuto è disponibile in:
URL:https://turismo.comuneacqui.it/event/futurambiente-camminata-urbana/?lang=en
LOCATION:Archi romani – zona Bagni
ATTACH;FMTTYPE=image/jpeg:https://turismo.comuneacqui.it/wp-content/uploads/2026/04/FuturAmbiente_26-04-26.jpg
END:VEVENT
END:VCALENDAR